BEGIN:VCALENDAR
VERSION:2.0
PRODID:-//Department of Computer Science - ECPv6.15.20//NONSGML v1.0//EN
CALSCALE:GREGORIAN
METHOD:PUBLISH
X-WR-CALNAME:Department of Computer Science
X-ORIGINAL-URL:https://www.cs.jhu.edu
X-WR-CALDESC:Events for Department of Computer Science
REFRESH-INTERVAL;VALUE=DURATION:PT1H
X-Robots-Tag:noindex
X-PUBLISHED-TTL:PT1H
BEGIN:VTIMEZONE
TZID:America/New_York
BEGIN:DAYLIGHT
TZOFFSETFROM:-0500
TZOFFSETTO:-0400
TZNAME:EDT
DTSTART:20190310T070000
END:DAYLIGHT
BEGIN:STANDARD
TZOFFSETFROM:-0400
TZOFFSETTO:-0500
TZNAME:EST
DTSTART:20191103T060000
END:STANDARD
BEGIN:DAYLIGHT
TZOFFSETFROM:-0500
TZOFFSETTO:-0400
TZNAME:EDT
DTSTART:20200308T070000
END:DAYLIGHT
BEGIN:STANDARD
TZOFFSETFROM:-0400
TZOFFSETTO:-0500
TZNAME:EST
DTSTART:20201101T060000
END:STANDARD
BEGIN:DAYLIGHT
TZOFFSETFROM:-0500
TZOFFSETTO:-0400
TZNAME:EDT
DTSTART:20210314T070000
END:DAYLIGHT
BEGIN:STANDARD
TZOFFSETFROM:-0400
TZOFFSETTO:-0500
TZNAME:EST
DTSTART:20211107T060000
END:STANDARD
END:VTIMEZONE
BEGIN:VEVENT
DTSTART;TZID=America/New_York:20200303T104500
DTEND;TZID=America/New_York:20200303T114500
DTSTAMP:20260422T172404
CREATED:20210629T210722Z
LAST-MODIFIED:20210629T210722Z
UID:1962420-1583232300-1583235900@www.cs.jhu.edu
SUMMARY:Yang Zhang\, Carnegie Mellon University – “Knowledge Is Power: Sensing The Physical World Around Devices”
DESCRIPTION:LocationHackerman B-17AbstractComputers seventy years ago knew only what could be loaded into their memory\, but today they can access an entire internet of information. This expansion of knowledge has made them indispensable tools and assistants. However\, even today\, computing devices know little about the physical world\, especially the environment immediately around them due to a lack of perceptual capabilities. For this reason\, they can tell you more about medieval literature and the traffic in Tokyo than the home in which they reside. This lack of perception limits how smart and useful they can be\, especially in our everyday tasks that could be augmented with information and interactivity.In this talk\, I will present my research on sensing approaches that boost computer perception of the immediate physical world. Specifically\, I have explored sensing technologies that allow one deployed sensor to cover a wide area for user activity and event recognition as well as sensing technologies that enable the manufacture of smarter everyday objects. Together\, these sensing technologies allow computers to monitor the state\, count\, and intensity of activities\, which in turn can enable higher-order applications such as personal informatics\, accessibility\, digital health\, sustainability\, and beyond.BioYang Zhang is a PhD candidate in the Human-Computer Interaction Institute at Carnegie Mellon University and is also a Qualcomm Innovation Fellow. His research lies in the technical aspects of Human Computer Interaction (HCI) with a focus on sensing technologies that enhance computing devices with knowledge of the physical world around them. His research has received 2 best paper and 4 honorable mention awards at top venues\, and extensive media coverage from leading media outlets such as MIT Technology Review\, Engadget\, and The Wall Street Journal. As much of his research is highly applied\, it has led to collaborations with industry partners\, such as Facebook Reality Labs\, Apple\, and Microsoft Research. More information can be found on his website: https://yangzhang.dev.HostChien-Ming HuangVideoWatch seminar video.
URL:https://www.cs.jhu.edu/event/yang-zhang-carnegie-mellon-university-knowledge-is-power-sensing-the-physical-world-around-devices/
END:VEVENT
END:VCALENDAR