BEGIN:VCALENDAR
VERSION:2.0
PRODID:-//Department of Computer Science - ECPv5.12.3//NONSGML v1.0//EN
CALSCALE:GREGORIAN
METHOD:PUBLISH
X-WR-CALNAME:Department of Computer Science
X-ORIGINAL-URL:https://www.cs.jhu.edu
X-WR-CALDESC:Events for Department of Computer Science
BEGIN:VTIMEZONE
TZID:America/New_York
BEGIN:DAYLIGHT
TZOFFSETFROM:-0500
TZOFFSETTO:-0400
TZNAME:EDT
DTSTART:20210314T070000
END:DAYLIGHT
BEGIN:STANDARD
TZOFFSETFROM:-0400
TZOFFSETTO:-0500
TZNAME:EST
DTSTART:20211107T060000
END:STANDARD
END:VTIMEZONE
BEGIN:VEVENT
DTSTART;TZID=America/New_York:20210415T130000
DTEND;TZID=America/New_York:20210415T140000
DTSTAMP:20220112T094228
CREATED:20210629T210728Z
LAST-MODIFIED:20210629T210728Z
UID:1962635-1618491600-1618495200@www.cs.jhu.edu
SUMMARY:Manuel A. Pérez-Quiñones\, University of North Carolina at Charlotte – “Why Diversity Should Matter to Computer Scientists”
DESCRIPTION:Locationhttps://wse.zoom.us/j/92864682303AbstractIn this talk\, Dr. Pérez-Quiñones presents some of the somber statistics of underrepresentation in computing. He argues that computer science students and professionals should care deeply about this inequity: a lack of diversity in software development teams can have serious consequences for a fair society. Dr. Pérez-Quiñones presents examples of the negative effects that underrepresentation in computing teams can have. The presentation concludes with an open question: What can we do to broaden participation in computing?BioDr. Manuel A. Pérez-Qui��ones is Professor of Software and Information Systems at UNC at Charlotte. His research interests include HCI\, CS education\, and diversity in computing. He has held various administrative positions in academia\, including Associate Dean for the Graduate School at VT and Associate Dean of the College of Computing and Informations. He was Chair of the Coalition to Diversify Computing\, Program Chair for the 2014 Tapia Conference\, and Symposium Co-Chair for SIGCSE 2019. He serves on the SIGCSE Board\, the Advisory Board for CMD-IT\, member of the Steering Committee for BPCNet and Technical Consultant for the Center for Inclusive Computing at Northeastern. His service to diversify computing has been recognized with ACM Distinguished Member status\, the A. Nico Habermann award\, and Richard A. Tapia Achievement Award. In over 30 years of professional experience\, he has worked at UNCC (6 years)\,  Virgina Tech (15 years)\, University of Puerto Rico-Mayaguez (4 years)\, Visiting Professor at the US Naval Academy\, and Computer Scientist at the Naval Research Lab (6 years).HostMisha KazhdanVideoWatch seminar video.
URL:https://www.cs.jhu.edu/event/manuel-a-perez-quinones-university-of-north-carolina-at-charlotte-why-diversity-should-matter-to-computer-scientists/
END:VEVENT
END:VCALENDAR