BEGIN:VCALENDAR
VERSION:2.0
PRODID:-//Department of Computer Science - ECPv6.15.20//NONSGML v1.0//EN
CALSCALE:GREGORIAN
METHOD:PUBLISH
X-WR-CALNAME:Department of Computer Science
X-ORIGINAL-URL:https://www.cs.jhu.edu
X-WR-CALDESC:Events for Department of Computer Science
REFRESH-INTERVAL;VALUE=DURATION:PT1H
X-Robots-Tag:noindex
X-PUBLISHED-TTL:PT1H
BEGIN:VTIMEZONE
TZID:America/New_York
BEGIN:DAYLIGHT
TZOFFSETFROM:-0500
TZOFFSETTO:-0400
TZNAME:EDT
DTSTART:20190310T070000
END:DAYLIGHT
BEGIN:STANDARD
TZOFFSETFROM:-0400
TZOFFSETTO:-0500
TZNAME:EST
DTSTART:20191103T060000
END:STANDARD
BEGIN:DAYLIGHT
TZOFFSETFROM:-0500
TZOFFSETTO:-0400
TZNAME:EDT
DTSTART:20200308T070000
END:DAYLIGHT
BEGIN:STANDARD
TZOFFSETFROM:-0400
TZOFFSETTO:-0500
TZNAME:EST
DTSTART:20201101T060000
END:STANDARD
BEGIN:DAYLIGHT
TZOFFSETFROM:-0500
TZOFFSETTO:-0400
TZNAME:EDT
DTSTART:20210314T070000
END:DAYLIGHT
BEGIN:STANDARD
TZOFFSETFROM:-0400
TZOFFSETTO:-0500
TZNAME:EST
DTSTART:20211107T060000
END:STANDARD
END:VTIMEZONE
BEGIN:VEVENT
DTSTART;TZID=America/New_York:20200204T104500
DTEND;TZID=America/New_York:20200204T114500
DTSTAMP:20260422T181008
CREATED:20210629T210721Z
LAST-MODIFIED:20210629T210721Z
UID:1962400-1580813100-1580816700@www.cs.jhu.edu
SUMMARY:Maia Jacobs\, Harvard University – “One Size Doesn’t Fit Anyone: Tailoring Digital Tools for Personal Health Journeys”
DESCRIPTION:LocationHackerman B-17AbstractPersonal technologies for everyday health management have the potential to transform healthcare by empowering individuals to engage in their own care\, scaffolding access to critical information\, and supporting patient-centered decision-making. Currently\, many personal health tools often focus only on a single task or isolated event. However\, chronic illnesses are characterized by information needs and challenges that shift over time; thus\, these illnesses are better defined as a dynamic trajectory than a series of singular events.In this talk\, I discuss my work designing and implementing novel computing systems that: 1) support chronic illness trajectories and 2) reduce patients’ barriers to accessing information necessary for effective personal health management. I create technologies that have the flexibility and robustness to conform to individuals’ evolving health situations. By connecting individuals with personalized and actionable feedback\, my approach can lead to long-term engagement with health tools. This is evidenced by participants’ motivations for using these systems as well as longitudinal usage patterns. Using results from longitudinal field deployments\, I demonstrate the ability for personalized and adaptive health tools to facilitate patients’ proactive health management and engagement in their care. I also discuss opportunities for future work: looking at personalization as a strategy for addressing health disparities\, designing for illness trajectories in which uncertainty is paramount\, and integrating machine learning models into clinical workflows.BioDr. Maia Jacobs is a postdoctoral fellow at Harvard University’s Center for Research on Computation and Society. Jacobs’ research focuses on the development and assessment of novel approaches for health information tools to support chronic disease management. She completed her PhD in Human Centered Computing at Georgia Institute of Technology with the thesis\, “Personalized Mobile Tools to Support the Cancer Trajectory��.Jacobs’ research was recognized in the 2016 report to the President of the United States from the President’s Cancer Panel\, which focuses on improving cancer-related outcomes. Her research has been funded by the National Science Foundation\, the National Cancer Institute and the Harvard Data Science Institute. Jacobs was awarded the iSchools Doctoral Dissertation Award and the Georgia Institute of Technology College of Computing Dissertation Award. Jacobs was also recognized as a Foley Scholar\, the highest award given by the GVU center to PhD candidates at Georgia Tech. Prior to joining Georgia Tech\, Maia received a B.S. degree in Industrial and Systems Engineering from the University of Wisconsin-Madison and worked as a User Experience Specialist for Accenture Consulting.HostChien-Ming HuangVideoWatch seminar video.
URL:https://www.cs.jhu.edu/event/maia-jacobs-harvard-university-one-size-doesnt-fit-anyone-tailoring-digital-tools-for-personal-health-journeys/
END:VEVENT
END:VCALENDAR