BEGIN:VCALENDAR
VERSION:2.0
PRODID:-//Department of Computer Science - ECPv5.12.3//NONSGML v1.0//EN
CALSCALE:GREGORIAN
METHOD:PUBLISH
X-WR-CALNAME:Department of Computer Science
X-ORIGINAL-URL:https://www.cs.jhu.edu
X-WR-CALDESC:Events for Department of Computer Science
BEGIN:VTIMEZONE
TZID:America/New_York
BEGIN:DAYLIGHT
TZOFFSETFROM:-0500
TZOFFSETTO:-0400
TZNAME:EDT
DTSTART:20180311T070000
END:DAYLIGHT
BEGIN:STANDARD
TZOFFSETFROM:-0400
TZOFFSETTO:-0500
TZNAME:EST
DTSTART:20181104T060000
END:STANDARD
END:VTIMEZONE
BEGIN:VEVENT
DTSTART;TZID=America/New_York:20181127T104500
DTEND;TZID=America/New_York:20181127T114500
DTSTAMP:20220112T094502
CREATED:20210629T210716Z
LAST-MODIFIED:20210629T210716Z
UID:1962200-1543315500-1543319100@www.cs.jhu.edu
SUMMARY:Lecturer: Oge Marques\, Florida Atlantic University – “Medical image analysis using deep learning”
DESCRIPTION:LocationHackerman Hall B-17AbstractThe field of medical image analysis has experienced a significant shift towards deep learning approaches\, particularly convolutional neural networks (CNNs)\, in recent years. Thanks to their ability to learn features\, representations\, and tasks directly from images – thereby eliminating the need for manual feature extraction and selection – deep learning solutions are becoming ever more prevalent.In this talk I will present an overview of recent and ongoing collaborative work in topics related to medical image analysis using deep learning\, particularly: (1) tuberculosis type classification from CTscans; (2) skin lesion segmentation and classification; and (3) surgery video summarization and contentanalysis.BioOge Marques\, PhD is Professor of Computer Science and Engineering at theCollege of Engineering and Computer Science at Florida Atlantic University (FAU)(Boca Raton\, Florida\, USA). He is Tau Beta Pi Eminent Engineer\, ACMDistinguished Speaker\, and the author of more than 100 publications in the areaof intelligent processing of visual information – which combines the fields ofimage processing\, computer vision\, image retrieval\, machine learning\, seriousgames\, and human visual perception –\, including the textbook “Practical Imageand Video Processing Using MATLAB��� (Wiley-IEEE Press).Professor Marques isSenior Member of both the IEEE (Institute of Electrical and Electronics Engineers)and the ACM (Association for Computing Machinery) and member of the honor societies of Sigma Xi\, PhiKappa Phi and Upsilon Pi Epsilon. He has more than 30 years of teaching and research experience indifferent countries (USA\, Austria\, Brazil\, France\, India\, Spain\, Serbia\, and the Netherlands).HostHaider AliVideoWatch seminar video.
URL:https://www.cs.jhu.edu/event/lecturer-oge-marques-florida-atlantic-university-medical-image-analysis-using-deep-learning/
END:VEVENT
END:VCALENDAR