BEGIN:VCALENDAR
VERSION:2.0
PRODID:-//Department of Computer Science - ECPv6.15.20//NONSGML v1.0//EN
CALSCALE:GREGORIAN
METHOD:PUBLISH
X-WR-CALNAME:Department of Computer Science
X-ORIGINAL-URL:https://www.cs.jhu.edu
X-WR-CALDESC:Events for Department of Computer Science
REFRESH-INTERVAL;VALUE=DURATION:PT1H
X-Robots-Tag:noindex
X-PUBLISHED-TTL:PT1H
BEGIN:VTIMEZONE
TZID:America/New_York
BEGIN:DAYLIGHT
TZOFFSETFROM:-0500
TZOFFSETTO:-0400
TZNAME:EDT
DTSTART:20190310T070000
END:DAYLIGHT
BEGIN:STANDARD
TZOFFSETFROM:-0400
TZOFFSETTO:-0500
TZNAME:EST
DTSTART:20191103T060000
END:STANDARD
BEGIN:DAYLIGHT
TZOFFSETFROM:-0500
TZOFFSETTO:-0400
TZNAME:EDT
DTSTART:20200308T070000
END:DAYLIGHT
BEGIN:STANDARD
TZOFFSETFROM:-0400
TZOFFSETTO:-0500
TZNAME:EST
DTSTART:20201101T060000
END:STANDARD
BEGIN:DAYLIGHT
TZOFFSETFROM:-0500
TZOFFSETTO:-0400
TZNAME:EDT
DTSTART:20210314T070000
END:DAYLIGHT
BEGIN:STANDARD
TZOFFSETFROM:-0400
TZOFFSETTO:-0500
TZNAME:EST
DTSTART:20211107T060000
END:STANDARD
END:VTIMEZONE
BEGIN:VEVENT
DTSTART;TZID=America/New_York:20201027T190000
DTEND;TZID=America/New_York:20201027T200000
DTSTAMP:20260422T144930
CREATED:20210629T210724Z
LAST-MODIFIED:20210629T210724Z
UID:1962495-1603825200-1603828800@www.cs.jhu.edu
SUMMARY:Krasnopoler Lecture: Ed Catmull\, Pixar Animation Studios and Pixar Animation and Disney Animation – “Q&A”
DESCRIPTION:LocationZoom: https://wse.zoom.us/j/95384447708AbstractEd Catmull will be hosting a live Q&A.BioEd Catmull\, Turing Prize Award winner for his contributions to 3D graphics and CGI filmmaking.Dr. Ed Catmull is co-founder of Pixar Animation Studios and the former president of Pixar\, Walt Disney Animation Studios\, and Disneytoon Studios. For over twenty-five years\, Pixar has dominated the world of animation\, producing fourteen consecutive #1 box office hits\, which have grossed more than  $8.7 billion at the worldwide box office to date\, and won thirty Academy Awards®.His book Creativity\, Inc.—co-written with journalist Amy Wallace and years in the making—is a distillation of the ideas and management principles Ed has used to develop a creative culture. A book for managers who want to lead their employees to new heights\, it also grants readers an all-access trip into the nerve center of Pixar Animation Studios—into the meetings\, postmortems\, and “Braintrust” sessions where some of the most successful films in history have been made.Dr. Catmull has been honored with five Academy Awards®\, including an Oscar of Lifetime Achievement for his technical contributions and leadership in the field of computer graphics for the motion picture industry. He also has been awarded the Turing Award by the world’s largest society of computing professionals\, the Association for Computing Machinery\, for his work on three-dimensional computer graphics. Dr. Catmull earned B.S. degrees in computer science and physics and a Ph.D. in computer science from the University of Utah.  In 2005\, the University of Utah presented him with an Honorary Doctoral Degree in Engineering. In 2018\, Catmull announced his retirement from Pixar\, though he has cemented his legacy as an innovator in technology\, entertainment\, business\, and leadership.HostDepartment of Computer Science
URL:https://www.cs.jhu.edu/event/krasnopoler-lecture-ed-catmull-pixar-animation-studios-and-pixar-animation-and-disney-animation-qa/
END:VEVENT
END:VCALENDAR