BEGIN:VCALENDAR
VERSION:2.0
PRODID:-//Department of Computer Science - ECPv5.12.3//NONSGML v1.0//EN
CALSCALE:GREGORIAN
METHOD:PUBLISH
X-WR-CALNAME:Department of Computer Science
X-ORIGINAL-URL:https://www.cs.jhu.edu
X-WR-CALDESC:Events for Department of Computer Science
BEGIN:VTIMEZONE
TZID:America/New_York
BEGIN:DAYLIGHT
TZOFFSETFROM:-0500
TZOFFSETTO:-0400
TZNAME:EDT
DTSTART:20210314T070000
END:DAYLIGHT
BEGIN:STANDARD
TZOFFSETFROM:-0400
TZOFFSETTO:-0500
TZNAME:EST
DTSTART:20211107T060000
END:STANDARD
END:VTIMEZONE
BEGIN:VEVENT
DTSTART;TZID=America/New_York:20211116T160000
DTEND;TZID=America/New_York:20211116T170000
DTSTAMP:20220112T094711
CREATED:20211103T141204Z
LAST-MODIFIED:20211103T141204Z
UID:1968449-1637078400-1637082000@www.cs.jhu.edu
SUMMARY:Inaugural Professorial Lecture: Michael Schatz
DESCRIPTION:The Don P. Giddens Inaugural Professorial Lecture recognizing Michael Schatz as a full professor in the Department of Computer Science. Mike is the Bloomberg Distinguished Professor of Computer Science and Biology. \nThe lecture will be held from 4 to 5 p.m. ET in the Mason Hall Auditorium on Tuesday\, Nov. 16. Space is limited for in-person attendance and registration is required. Click here to register to attend in person. \nMike’s lecture is titled “The Next 20 Years of Genome Sciences.” The last 20 years have been a remarkable era for biology and medicine. One of the most significant achievements has been the sequencing of the first human genomes\, including the recent publication of the first complete human genome. These achievements have laid the foundation for profound insights into genetics\, the intricacies of regulation and development\, and the forces of evolution. Incredibly\, as we look into the future over the next two decades\, we see the very real potential for sequencing more than 1 billion genomes\, bringing even deeper insight into human genetics as well as the genetics of millions of other species on the planet. Realizing this great potential for medicine and biology\, though\, will only be achieved through the integration and development of new computational and quantitative approaches that can keep pace with the rapid improvements to biotechnology. In this lecture\, Mike aims to chart out these technologies\, anticipate the major themes of research\, and call out the challenges ahead. \nA live stream will be available for those unable to attend in person.
URL:https://www.cs.jhu.edu/event/inaugural-professorial-lecture-michael-schatz/
LOCATION:Mason Hall Auditorium\, 3400 N. Charles St\, Baltimore\, MD\, 21218\, United States
END:VEVENT
END:VCALENDAR