BEGIN:VCALENDAR
VERSION:2.0
PRODID:-//Department of Computer Science - ECPv6.15.20//NONSGML v1.0//EN
CALSCALE:GREGORIAN
METHOD:PUBLISH
X-WR-CALNAME:Department of Computer Science
X-ORIGINAL-URL:https://www.cs.jhu.edu
X-WR-CALDESC:Events for Department of Computer Science
REFRESH-INTERVAL;VALUE=DURATION:PT1H
X-Robots-Tag:noindex
X-PUBLISHED-TTL:PT1H
BEGIN:VTIMEZONE
TZID:America/New_York
BEGIN:DAYLIGHT
TZOFFSETFROM:-0500
TZOFFSETTO:-0400
TZNAME:EDT
DTSTART:20200308T070000
END:DAYLIGHT
BEGIN:STANDARD
TZOFFSETFROM:-0400
TZOFFSETTO:-0500
TZNAME:EST
DTSTART:20201101T060000
END:STANDARD
BEGIN:DAYLIGHT
TZOFFSETFROM:-0500
TZOFFSETTO:-0400
TZNAME:EDT
DTSTART:20210314T070000
END:DAYLIGHT
BEGIN:STANDARD
TZOFFSETFROM:-0400
TZOFFSETTO:-0500
TZNAME:EST
DTSTART:20211107T060000
END:STANDARD
BEGIN:DAYLIGHT
TZOFFSETFROM:-0500
TZOFFSETTO:-0400
TZNAME:EDT
DTSTART:20220313T070000
END:DAYLIGHT
BEGIN:STANDARD
TZOFFSETFROM:-0400
TZOFFSETTO:-0500
TZNAME:EST
DTSTART:20221106T060000
END:STANDARD
END:VTIMEZONE
BEGIN:VEVENT
DTSTART;TZID=America/New_York:20210624T110000
DTEND;TZID=America/New_York:20210624T120000
DTSTAMP:20260422T182710
CREATED:20210629T210729Z
LAST-MODIFIED:20210629T210729Z
UID:1962675-1624532400-1624536000@www.cs.jhu.edu
SUMMARY:IAA & CS Seminar Series: Elham Tabassi\, National Institute of Standards and Technology (NIST) – “An Overview of NIST Trustworthy AI Program”
DESCRIPTION:LocationZoom — http://bit.ly/Elham-TabassiAbstractWith AI already changing the way in which society addresses economic and national security challenges and opportunities\, AI technologies must be developed and used in a trustworthy and responsible manner. That means they need to ensure accuracy\, explainability and interpretability\, reliability\, robustness\, security (resilience)\, privacy\,  safety\, and that bias is mitigated. Trustworthy data\, standards\, and integration of ML/AI in applications is critical for the successful deployment of new technologies for climate research\, genomics\, materials\, and more. Delivering these needed measurements\, standards\, and other tools is a primary focus for NIST’s portfolio of AI efforts. This session provides an overview of NIST Trustworthy AI program.Seminar link: http://bit.ly/Elham-TabassiBioElham Tabassi is the Chief of Staff in the Information Technology Laboratory (ITL) at the National Institute of Standards and Technology (NIST). ITL\, one of six research Laboratories within NIST\, supports NIST’s mission\, to promote U.S. innovation and industrial competitiveness by advancing measurement science\, standards\, and technology in ways that enhance economic security and improve our quality of life.She has been working on various machine learning and computer vision research projects with applications in biometrics evaluation and standards since 1999.  She is the principal architect of NIST Fingerprint Image Quality (NFIQ) which is now an international standard for measuring fingerprint image quality and has been deployed in many large scale biometric applications worldwide.  She is a senior member of IEEE\, and member of AAAI.HostsInstitute of Assured Autonomy and Computer Science
URL:https://www.cs.jhu.edu/event/iaa-cs-seminar-series-elham-tabassi-national-institute-of-standards-and-technology-nist-an-overview-of-nist-trustworthy-ai-program/
END:VEVENT
END:VCALENDAR