BEGIN:VCALENDAR
VERSION:2.0
PRODID:-//Department of Computer Science - ECPv6.15.20//NONSGML v1.0//EN
CALSCALE:GREGORIAN
METHOD:PUBLISH
X-WR-CALNAME:Department of Computer Science
X-ORIGINAL-URL:https://www.cs.jhu.edu
X-WR-CALDESC:Events for Department of Computer Science
REFRESH-INTERVAL;VALUE=DURATION:PT1H
X-Robots-Tag:noindex
X-PUBLISHED-TTL:PT1H
BEGIN:VTIMEZONE
TZID:America/New_York
BEGIN:DAYLIGHT
TZOFFSETFROM:-0500
TZOFFSETTO:-0400
TZNAME:EDT
DTSTART:20200308T070000
END:DAYLIGHT
BEGIN:STANDARD
TZOFFSETFROM:-0400
TZOFFSETTO:-0500
TZNAME:EST
DTSTART:20201101T060000
END:STANDARD
BEGIN:DAYLIGHT
TZOFFSETFROM:-0500
TZOFFSETTO:-0400
TZNAME:EDT
DTSTART:20210314T070000
END:DAYLIGHT
BEGIN:STANDARD
TZOFFSETFROM:-0400
TZOFFSETTO:-0500
TZNAME:EST
DTSTART:20211107T060000
END:STANDARD
BEGIN:DAYLIGHT
TZOFFSETFROM:-0500
TZOFFSETTO:-0400
TZNAME:EDT
DTSTART:20220313T070000
END:DAYLIGHT
BEGIN:STANDARD
TZOFFSETFROM:-0400
TZOFFSETTO:-0500
TZNAME:EST
DTSTART:20221106T060000
END:STANDARD
END:VTIMEZONE
BEGIN:VEVENT
DTSTART;TZID=America/New_York:20210322T120000
DTEND;TZID=America/New_York:20210322T130000
DTSTAMP:20260422T163630
CREATED:20210629T210728Z
LAST-MODIFIED:20210629T210728Z
UID:1962630-1616414400-1616418000@www.cs.jhu.edu
SUMMARY:IAA & CS Seminar Series: Barbara J. Evans – “Rules for Robots\, and Why AI/ML Medical Software Breaks Them”
DESCRIPTION:LocationZoomAbstractIsaac Asimov��s Laws for Robots placed intelligent robots under three ethical duties eerily similar to the Belmont Report’s respect for persons\, beneficence\, and justice. Law scholars Jack Balkin and Frank Pasquale suggest that laws for AI/ML systems are best directed not at the robots but at humans who program them\, use them\, and let ourselves be governed by them. Recent theorizations of the perils of AI/ML software focus heavily on the problem of modern surveillance societies where citizens are relentlessly tracked\, analyzed\, and scored as they go about their daily lives. It is tempting for bioethicists to draw on these rich theorizations\, but doing so mis-frames the challenges and opportunities of the healthcare context in which AI/ML clinical decision support software operates. This talk identifies distinctive features of the healthcare setting that make AI/ML medical software likely to break the emerging rules about how to protect human dignity in a modern surveillance society. Protecting patients in an AI/ML-enabled clinical heath care setting is a different problem. It requires fresh\, context-appropriate thinking about a set of privacy\, bias\, and accountability issues that this talk sets out for debate.BioBarbara J. Evans is Professor of Law and Stephen C. O’Connell Chair at University of Florida’s Levin College of Law and Professor of Engineering at UF’s Herbert Wertheim College of Engineering. Her work focuses on data privacy andthe regulation of machine-learning medical software\, genomic technologies\, and diagnostic testing. She is an elected member of the American Law Institute\, a Senior Member of the Institute of Electrical and Electronics Engineers and was named a Greenwall Foundation Faculty Scholar in Bioethics for 2010-2013. Before coming to academia\, she was a partner in the international regulatory practice of a large New York law firm and is admitted to the practice of law in New York and Texas. She holds a BS in electrical engineering from the University of Texas at Austin\, an MS & PhD from Stanford University\, a JD from Yale Law School\, an LLM in Health Law from the University of Houston Law Center\, and she completed a post-doctoral fellowship in Clinical Ethics at the MD Anderson Cancer Center.HostIAAVideoWatch seminar video.
URL:https://www.cs.jhu.edu/event/iaa-cs-seminar-series-barbara-j-evans-rules-for-robots-and-why-ai-ml-medical-software-breaks-them/
END:VEVENT
END:VCALENDAR