BEGIN:VCALENDAR
VERSION:2.0
PRODID:-//Department of Computer Science - ECPv6.15.20//NONSGML v1.0//EN
CALSCALE:GREGORIAN
METHOD:PUBLISH
X-WR-CALNAME:Department of Computer Science
X-ORIGINAL-URL:https://www.cs.jhu.edu
X-WR-CALDESC:Events for Department of Computer Science
REFRESH-INTERVAL;VALUE=DURATION:PT1H
X-Robots-Tag:noindex
X-PUBLISHED-TTL:PT1H
BEGIN:VTIMEZONE
TZID:America/New_York
BEGIN:DAYLIGHT
TZOFFSETFROM:-0500
TZOFFSETTO:-0400
TZNAME:EDT
DTSTART:20200308T070000
END:DAYLIGHT
BEGIN:STANDARD
TZOFFSETFROM:-0400
TZOFFSETTO:-0500
TZNAME:EST
DTSTART:20201101T060000
END:STANDARD
BEGIN:DAYLIGHT
TZOFFSETFROM:-0500
TZOFFSETTO:-0400
TZNAME:EDT
DTSTART:20210314T070000
END:DAYLIGHT
BEGIN:STANDARD
TZOFFSETFROM:-0400
TZOFFSETTO:-0500
TZNAME:EST
DTSTART:20211107T060000
END:STANDARD
BEGIN:DAYLIGHT
TZOFFSETFROM:-0500
TZOFFSETTO:-0400
TZNAME:EDT
DTSTART:20220313T070000
END:DAYLIGHT
BEGIN:STANDARD
TZOFFSETFROM:-0400
TZOFFSETTO:-0500
TZNAME:EST
DTSTART:20221106T060000
END:STANDARD
END:VTIMEZONE
BEGIN:VEVENT
DTSTART;TZID=America/New_York:20210316T110000
DTEND;TZID=America/New_York:20210316T120000
DTSTAMP:20260422T164916
CREATED:20210629T210728Z
LAST-MODIFIED:20210629T210728Z
UID:1962625-1615892400-1615896000@www.cs.jhu.edu
SUMMARY:IAA & CS Seminar Series: Alyssa Pierson\, Boston University – “Designing Cooperative and Socially-Aware Autonomy”
DESCRIPTION:Locationhttp://bit.ly/Alyssa-PiersonAbstractRobots will transform our everyday lives\, from home service and personal mobility\, to large-scale warehouse management and agriculture monitoring. Across these applications\, robots need to interact with humans and other robots in complex\, dynamic environments. Understanding how robots interact allows us to design safer and more robust systems. This talk presents an overview on how we can integrate underlying cooperation and interaction models into the design of the robot teams. We use tools from behavioral decision theory to design interaction models\, combined with game theory and control theory to develop distributed control strategies with provable performance guarantees. This talk focuses on applications in autonomous driving\, where better understanding of human intent improves safety\, as well as exploring recent results in designing UVC-equipped mobile robots for human-centric environments.BioAlyssa Pierson is an Assistant Professor of Mechanical Engineering at Boston University. Her research interests include trustand cooperation in multi-agent systems\, distributed robotics control\, and socially-compliant autonomous system design. Shefocuses on designing robotic systems that interact with humans and other robots in complex\, dynamic environments.Prior to joining BU\, Professor Pierson was a research scientist with the Computer Science and Artificial Intelligence Laboratory(CSAIL) at MIT. She received her PhD degree from Boston University in 2017 and BS in Engineering from Harvey Mudd College.During her PhD\, she was awarded the Clare Booth Luce Fellowship and was a Best Paper Finalist at the 2016 InternationalConference on Robotics and Automation.HostsIAA and CSVideoWatch seminar video.
URL:https://www.cs.jhu.edu/event/iaa-cs-seminar-series-alyssa-pierson-boston-university-designing-cooperative-and-socially-aware-autonomy/
END:VEVENT
END:VCALENDAR