BEGIN:VCALENDAR
VERSION:2.0
PRODID:-//Department of Computer Science - ECPv6.15.20//NONSGML v1.0//EN
CALSCALE:GREGORIAN
METHOD:PUBLISH
X-WR-CALNAME:Department of Computer Science
X-ORIGINAL-URL:https://www.cs.jhu.edu
X-WR-CALDESC:Events for Department of Computer Science
REFRESH-INTERVAL;VALUE=DURATION:PT1H
X-Robots-Tag:noindex
X-PUBLISHED-TTL:PT1H
BEGIN:VTIMEZONE
TZID:America/New_York
BEGIN:DAYLIGHT
TZOFFSETFROM:-0500
TZOFFSETTO:-0400
TZNAME:EDT
DTSTART:20200308T070000
END:DAYLIGHT
BEGIN:STANDARD
TZOFFSETFROM:-0400
TZOFFSETTO:-0500
TZNAME:EST
DTSTART:20201101T060000
END:STANDARD
BEGIN:DAYLIGHT
TZOFFSETFROM:-0500
TZOFFSETTO:-0400
TZNAME:EDT
DTSTART:20210314T070000
END:DAYLIGHT
BEGIN:STANDARD
TZOFFSETFROM:-0400
TZOFFSETTO:-0500
TZNAME:EST
DTSTART:20211107T060000
END:STANDARD
BEGIN:DAYLIGHT
TZOFFSETFROM:-0500
TZOFFSETTO:-0400
TZNAME:EDT
DTSTART:20220313T070000
END:DAYLIGHT
BEGIN:STANDARD
TZOFFSETFROM:-0400
TZOFFSETTO:-0500
TZNAME:EST
DTSTART:20221106T060000
END:STANDARD
END:VTIMEZONE
BEGIN:VEVENT
DTSTART;TZID=America/New_York:20210304T160000
DTEND;TZID=America/New_York:20210304T170000
DTSTAMP:20260422T144945
CREATED:20210629T210727Z
LAST-MODIFIED:20210629T210727Z
UID:1962620-1614873600-1614877200@www.cs.jhu.edu
SUMMARY:IAA and ISI Speaker: Nicole Perlroth\, The New York Times – “The Cyber Weapons Arms Race”
DESCRIPTION:Locationhttp://bit.ly/Nicole-PerlrothAbstractNicole Perlroth is The New York Times cybersecurity reporter and the author of This Is How TheyTell Me the World Ends\, the untold history of the global cyber arms trade and cyberweapons armsrace spanning three decades. Perlroth reveals for the first time the classified market’s origins (aRussian attack on American embassy)\, its Godfather\, brokers\, mercenaries\, hackers and its spreadto the furthest corners of the globe\, from the United States to Israel\, the Middle East\, SouthAmerica\, China and beyond. She documents attacks across nations and how each new attackbuilds on the last\, as nation states learn and improve upon one another’s playbooks\, extendinginto high-profile attacks on multi-national companies and private organizations. Perlroth’sreporting spans the period from the 1990s to the 2020 election and its aftermath\, when Russiahas been engaged in a months-long hack of the United States federal government itself\, an attackthat Perlroth continues to report for the Times\, building on her book’s extraordinary revelations.BioNicole Perlroth is an award-winning cybersecurity journalist for The New York Times\, where her work hasbeen optioned for both film and television. She is a regular lecturer at the Stanford Graduate School ofBusiness and a graduate of Princeton University and Stanford University. She lives with her family in theBay Area\, but increasingly prefers life off the grid in their cabin in the woods.HostsIAA and ISIVideoWatch seminar video.
URL:https://www.cs.jhu.edu/event/iaa-and-isi-speaker-nicole-perlroth-the-new-york-times-the-cyber-weapons-arms-race/
END:VEVENT
END:VCALENDAR