BEGIN:VCALENDAR
VERSION:2.0
PRODID:-//Department of Computer Science - ECPv5.12.3//NONSGML v1.0//EN
CALSCALE:GREGORIAN
METHOD:PUBLISH
X-WR-CALNAME:Department of Computer Science
X-ORIGINAL-URL:https://www.cs.jhu.edu
X-WR-CALDESC:Events for Department of Computer Science
BEGIN:VTIMEZONE
TZID:America/New_York
BEGIN:DAYLIGHT
TZOFFSETFROM:-0500
TZOFFSETTO:-0400
TZNAME:EDT
DTSTART:20190310T070000
END:DAYLIGHT
BEGIN:STANDARD
TZOFFSETFROM:-0400
TZOFFSETTO:-0500
TZNAME:EST
DTSTART:20191103T060000
END:STANDARD
END:VTIMEZONE
BEGIN:VEVENT
DTSTART;TZID=America/New_York:20190215T183000
DTEND;TZID=America/New_York:20190217T193000
DTSTAMP:20220112T092934
CREATED:20210629T210717Z
LAST-MODIFIED:20210629T210717Z
UID:1962220-1550255400-1550431800@www.cs.jhu.edu
SUMMARY:HopHacks Spring 2019
DESCRIPTION:Registration is now open for HopHacks Spring 2019 – the 36-hour student-run hackathon which will take place from Friday February 15th through Sunday February 17th. In addition to the awesome prizes\, swag and free meals throughout the hackathon\, you’ll have the opportunity to interact with recruiters from our sponsors including Bloomberg\, MissionData and more!We can’t wait to see what software and hardware hacks you create\, so register now at hophacks.com! All enrolled undergraduate and graduate students are eligible to participate.
URL:https://www.cs.jhu.edu/event/hophacks-spring-2019/
LOCATION:Hodson Hall\, Homewood Campus\, Johns Hopkins University\, Hodson Hall\, Homewood Campus\, Johns Hopkins University
END:VEVENT
END:VCALENDAR