BEGIN:VCALENDAR
VERSION:2.0
PRODID:-//Department of Computer Science - ECPv5.12.3//NONSGML v1.0//EN
CALSCALE:GREGORIAN
METHOD:PUBLISH
X-WR-CALNAME:Department of Computer Science
X-ORIGINAL-URL:https://www.cs.jhu.edu
X-WR-CALDESC:Events for Department of Computer Science
BEGIN:VTIMEZONE
TZID:America/New_York
BEGIN:DAYLIGHT
TZOFFSETFROM:-0500
TZOFFSETTO:-0400
TZNAME:EDT
DTSTART:20190310T070000
END:DAYLIGHT
BEGIN:STANDARD
TZOFFSETFROM:-0400
TZOFFSETTO:-0500
TZNAME:EST
DTSTART:20191103T060000
END:STANDARD
END:VTIMEZONE
BEGIN:VEVENT
DTSTART;TZID=America/New_York:20190913T183000
DTEND;TZID=America/New_York:20190915T193000
DTSTAMP:20220112T005450
CREATED:20210629T210719Z
LAST-MODIFIED:20210629T210719Z
UID:1962320-1568399400-1568575800@www.cs.jhu.edu
SUMMARY:HopHacks Fall 2019
DESCRIPTION:The application is now open for HopHacks Fall 2019 – the 36-hour student-run hackathon which will take place from Friday September 13th through Sunday September 15th. In addition to the awesome prizes\, swag and free meals throughout the hackathon\, you’ll have the opportunity to interact with recruiters from our sponsors including Bloomberg\, MissionData and more!We can’t wait to see what software and hardware hacks you create\, so apply now at hophacks.com! All enrolled undergraduate and graduate students are eligible to participate.
URL:https://www.cs.jhu.edu/event/hophacks-fall-2019/
END:VEVENT
END:VCALENDAR