BEGIN:VCALENDAR
VERSION:2.0
PRODID:-//Department of Computer Science - ECPv5.12.3//NONSGML v1.0//EN
CALSCALE:GREGORIAN
METHOD:PUBLISH
X-WR-CALNAME:Department of Computer Science
X-ORIGINAL-URL:https://www.cs.jhu.edu
X-WR-CALDESC:Events for Department of Computer Science
BEGIN:VTIMEZONE
TZID:America/New_York
BEGIN:DAYLIGHT
TZOFFSETFROM:-0500
TZOFFSETTO:-0400
TZNAME:EDT
DTSTART:20210314T070000
END:DAYLIGHT
BEGIN:STANDARD
TZOFFSETFROM:-0400
TZOFFSETTO:-0500
TZNAME:EST
DTSTART:20211107T060000
END:STANDARD
END:VTIMEZONE
BEGIN:VEVENT
DTSTART;TZID=America/New_York:20210223T180000
DTEND;TZID=America/New_York:20210223T190000
DTSTAMP:20220112T093912
CREATED:20210629T210727Z
LAST-MODIFIED:20210629T210727Z
UID:1962600-1614103200-1614106800@www.cs.jhu.edu
SUMMARY:Homewood: Algorithms\, Systems\, and Machine Learning in Finance
DESCRIPTION:Join Randal Burns\, head of Department of Computer Science\, for a JHU alumni panel conversation on: algorithms\, systems\, and machine learning in finance. This is fantastic opportunity for students who want to explore CS careers in finance\, ask questions\, and network with alums.Panelists will include: \nColin McCarthy (’98)\, Principal at Nebula Research and Development https://www.linkedin.com/in/colin-mccarthy-29600334/Gideon Mann (’06)\, Head of Data Science at Bloomberg https://www.linkedin.com/in/gideon-mann-223a2912/Steve Crutchfield (’97)\, Head of Market Structure & Underlying Market Making at Chicago Trading Company https://www.linkedin.com/in/crutch/. \nRegister through Handshake.
URL:https://www.cs.jhu.edu/event/homewood-algorithms-systems-and-machine-learning-in-finance/
END:VEVENT
END:VCALENDAR