BEGIN:VCALENDAR
VERSION:2.0
PRODID:-//Department of Computer Science - ECPv6.15.20//NONSGML v1.0//EN
CALSCALE:GREGORIAN
METHOD:PUBLISH
X-WR-CALNAME:Department of Computer Science
X-ORIGINAL-URL:https://www.cs.jhu.edu
X-WR-CALDESC:Events for Department of Computer Science
REFRESH-INTERVAL;VALUE=DURATION:PT1H
X-Robots-Tag:noindex
X-PUBLISHED-TTL:PT1H
BEGIN:VTIMEZONE
TZID:America/New_York
BEGIN:DAYLIGHT
TZOFFSETFROM:-0500
TZOFFSETTO:-0400
TZNAME:EDT
DTSTART:20200308T070000
END:DAYLIGHT
BEGIN:STANDARD
TZOFFSETFROM:-0400
TZOFFSETTO:-0500
TZNAME:EST
DTSTART:20201101T060000
END:STANDARD
BEGIN:DAYLIGHT
TZOFFSETFROM:-0500
TZOFFSETTO:-0400
TZNAME:EDT
DTSTART:20210314T070000
END:DAYLIGHT
BEGIN:STANDARD
TZOFFSETFROM:-0400
TZOFFSETTO:-0500
TZNAME:EST
DTSTART:20211107T060000
END:STANDARD
BEGIN:DAYLIGHT
TZOFFSETFROM:-0500
TZOFFSETTO:-0400
TZNAME:EDT
DTSTART:20220313T070000
END:DAYLIGHT
BEGIN:STANDARD
TZOFFSETFROM:-0400
TZOFFSETTO:-0500
TZNAME:EST
DTSTART:20221106T060000
END:STANDARD
END:VTIMEZONE
BEGIN:VEVENT
DTSTART;TZID=America/New_York:20210212T120000
DTEND;TZID=America/New_York:20210212T130000
DTSTAMP:20260422T172403
CREATED:20210629T210726Z
LAST-MODIFIED:20210629T210726Z
UID:1962570-1613131200-1613134800@www.cs.jhu.edu
SUMMARY:Hayden Metsky\, Broad Institute of MIT and Harvard – “Designing genomics-based tools that surveil and combat pathogens at scale”
DESCRIPTION:Locationhttps://wse.zoom.us/j/95385163332AbstractPathogen genomic data are rich with information and growing exponentially. At the same time\, new genomics-based technologies are transforming how we surveil and combat pathogens. Yet designing biological sequences for these technologies is still done largely by hand\, without well-defined objectives and with a great deal of trial and error. We lack computational capabilities to efficiently design and optimize frontline public health and medical tools\, such as diagnostics\, based on emerging genomic information.In this talk\, I examine computational techniques — linked closely with biotechnologies — that enhance how we proactively prepare for and respond to pathogens comprehensively. I discuss CATCH\, an algorithm that designs assays for simultaneously enriching the genomes of hundreds of viral species including all their known variation; they enable hypothesis-free viral detection and sequencing from patient samples with high sensitivity. I also discuss ADAPT\, which combines a deep learning model with combinatorial optimization to design CRISPR-based viral diagnostics that are maximally sensitive over viral variation. ADAPT rapidly and fully-automatically designs diagnostics for thousands of viruses\, and they exhibit lower limits of detection than state-of-the-art design strategies. The results show that principled computational design will play a vital role in an arsenal against infectious diseases. Finally\, I discuss promising directions for design methods and applications to other diseases.BioHayden Metsky is a postdoctoral researcher at the Broad Institute in Pardis Sabeti’s lab. He completed his PhD\, MEng\, and SB in computer science at MIT. His research focuses on developing and applying computational methods that enhance the tools we use to detect and treat disease\, concentrating on viruses.HostMike Schatz
URL:https://www.cs.jhu.edu/event/hayden-metsky-broad-institute-of-mit-and-harvard-designing-genomics-based-tools-that-surveil-and-combat-pathogens-at-scale/
END:VEVENT
END:VCALENDAR