BEGIN:VCALENDAR
VERSION:2.0
PRODID:-//Department of Computer Science - ECPv6.15.20//NONSGML v1.0//EN
CALSCALE:GREGORIAN
METHOD:PUBLISH
X-WR-CALNAME:Department of Computer Science
X-ORIGINAL-URL:https://www.cs.jhu.edu
X-WR-CALDESC:Events for Department of Computer Science
REFRESH-INTERVAL;VALUE=DURATION:PT1H
X-Robots-Tag:noindex
X-PUBLISHED-TTL:PT1H
BEGIN:VTIMEZONE
TZID:America/New_York
BEGIN:DAYLIGHT
TZOFFSETFROM:-0500
TZOFFSETTO:-0400
TZNAME:EDT
DTSTART:20200308T070000
END:DAYLIGHT
BEGIN:STANDARD
TZOFFSETFROM:-0400
TZOFFSETTO:-0500
TZNAME:EST
DTSTART:20201101T060000
END:STANDARD
BEGIN:DAYLIGHT
TZOFFSETFROM:-0500
TZOFFSETTO:-0400
TZNAME:EDT
DTSTART:20210314T070000
END:DAYLIGHT
BEGIN:STANDARD
TZOFFSETFROM:-0400
TZOFFSETTO:-0500
TZNAME:EST
DTSTART:20211107T060000
END:STANDARD
BEGIN:DAYLIGHT
TZOFFSETFROM:-0500
TZOFFSETTO:-0400
TZNAME:EDT
DTSTART:20220313T070000
END:DAYLIGHT
BEGIN:STANDARD
TZOFFSETFROM:-0400
TZOFFSETTO:-0500
TZNAME:EST
DTSTART:20221106T060000
END:STANDARD
END:VTIMEZONE
BEGIN:VEVENT
DTSTART;TZID=America/New_York:20210216T110000
DTEND;TZID=America/New_York:20210216T120000
DTSTAMP:20260422T150644
CREATED:20210629T210727Z
LAST-MODIFIED:20210629T210727Z
UID:1962585-1613473200-1613476800@www.cs.jhu.edu
SUMMARY:Greg Falco\, Johns Hopkins University – “Human-Centered Autonomy for Resilient Space Systems”
DESCRIPTION:LocationZoom (Link in Abstract)AbstractSustained space habitation is no longer a next-generation challenge. With NASA’s Artemis Plan\, the advent of the US Space Force and the “new space” sector’s scrappy enthusiasm\, there is serious momentum to bring humans to space for extended periods in the coming decade. We can’t do this alone. We’ll need to adapt the highly automated systems we’ve been designing for everyday purposes to help us survive. However\, if we build space-faring AI systems anything like how we have been building smart cities\, we are going to have some problems. AI systems that have been designed for civil society are not built for digital or physical resilience. Largely\, they have lacked human-centricity\, which has been a major contributor to this challenge. At this talk\, we’ll discuss and raise questions about the calls for autonomous space systems\, and if we do not have a track record for building safe and secure human-centric AI systems on Earth\, how can we build them for space? The stakes are higher there.Zoom Link: https://jhuapl.zoomgov.com/j/1606079245?pwd=RSt1ZE1JU1VBUlBRWGhOUDVHNlNzQT09Biorof. Gregory Falco is the first faculty hire at the Johns Hopkins Institute for Assured Autonomy (IAA)\, where he will be anAssistant Professor jointly between the IAA and the Civil and Systems Engineering Department starting in Fall 2021. He hasbeen at the forefront of smart city and space system security and safety in both industry and academia for the past decade.His research entitled Cybersecurity Principles for Space Systems was highly influential in the recent Space Policy Directive-5\,which shared the same title. He has worked closely with NASA’s Jet Propulsion Laboratory to help advance space asset securitycapabilities using AI. Falco led the inaugural university cohort research team for the United States Space Force’s HyperspaceChallenge. He has been listed in Forbes 30 Under 30 for his inventions and contributions to critical infrastructure cybersecurity. Falco has been published in Science for his work on cyber risk. Falco is a Cyber Research Fellow at Harvard University’sBelfer Center\, Research Affiliate at MIT’s Computer Science and Artificial Intelligence Laboratory and Postdoctoral Scholar atStanford University. Falco completed his PhD at MIT���s Computer Science and Artificial Intelligence Laboratory\, master’s degreeat Columbia University and bachelor’s degree at Cornell University.HostJohns Hopkins Institute for Assured AutonomyVideoWatch seminar video.
URL:https://www.cs.jhu.edu/event/greg-falco-johns-hopkins-university-human-centered-autonomy-for-resilient-space-systems/
END:VEVENT
END:VCALENDAR