BEGIN:VCALENDAR
VERSION:2.0
PRODID:-//Department of Computer Science - ECPv6.15.20//NONSGML v1.0//EN
CALSCALE:GREGORIAN
METHOD:PUBLISH
X-WR-CALNAME:Department of Computer Science
X-ORIGINAL-URL:https://www.cs.jhu.edu
X-WR-CALDESC:Events for Department of Computer Science
REFRESH-INTERVAL;VALUE=DURATION:PT1H
X-Robots-Tag:noindex
X-PUBLISHED-TTL:PT1H
BEGIN:VTIMEZONE
TZID:America/New_York
BEGIN:DAYLIGHT
TZOFFSETFROM:-0500
TZOFFSETTO:-0400
TZNAME:EDT
DTSTART:20190310T070000
END:DAYLIGHT
BEGIN:STANDARD
TZOFFSETFROM:-0400
TZOFFSETTO:-0500
TZNAME:EST
DTSTART:20191103T060000
END:STANDARD
BEGIN:DAYLIGHT
TZOFFSETFROM:-0500
TZOFFSETTO:-0400
TZNAME:EDT
DTSTART:20200308T070000
END:DAYLIGHT
BEGIN:STANDARD
TZOFFSETFROM:-0400
TZOFFSETTO:-0500
TZNAME:EST
DTSTART:20201101T060000
END:STANDARD
BEGIN:DAYLIGHT
TZOFFSETFROM:-0500
TZOFFSETTO:-0400
TZNAME:EDT
DTSTART:20210314T070000
END:DAYLIGHT
BEGIN:STANDARD
TZOFFSETFROM:-0400
TZOFFSETTO:-0500
TZNAME:EST
DTSTART:20211107T060000
END:STANDARD
END:VTIMEZONE
BEGIN:VEVENT
DTSTART;TZID=America/New_York:20201203T104500
DTEND;TZID=America/New_York:20201203T120000
DTSTAMP:20260422T144800
CREATED:20210629T210725Z
LAST-MODIFIED:20210629T210725Z
UID:1962535-1606992300-1606996800@www.cs.jhu.edu
SUMMARY:Getting the most out of your PhD
DESCRIPTION:The seminar will focus on and sharing suggestions on how you can make the most of your PhD degree.   Topics will include: 1) Mentoring\, 2) Having a 5 year plan\, and 3) Issues for underrepresented minorities.  This will be brought to you from the perspective of our faculty\, students\, and we hopefully we’ll have a few alumni drop in.Join us on Zoom:https://wse.zoom.us/j/98430496807 \nMeeting ID: 984 3049 6807One tap mobile+13017158592\,\,98430496807# US (Washington D.C)+16465588656\,\,98430496807# US (New York) \nDial by your location+1 301 715 8592 US (Washington D.C)+1 646 558 8656 US (New York)+1 312 626 6799 US (Chicago)+1 669 900 6833 US (San Jose)+1 253 215 8782 US (Tacoma)+1 346 248 7799 US (Houston)Meeting ID: 984 3049 6807Find your local number: https://wse.zoom.us/u/abfQNR4vZ \nJoin by SIP98430496807@zoomcrc.com \nJoin by H.323162.255.37.11 (US West)162.255.36.11 (US East)115.114.131.7 (India Mumbai)115.114.115.7 (India Hyderabad)213.19.144.110 (Amsterdam Netherlands)213.244.140.110 (Germany)103.122.166.55 (Australia)149.137.40.110 (Singapore)64.211.144.160 (Brazil)69.174.57.160 (Canada)207.226.132.110 (Japan)Meeting ID: 984 3049 6807
URL:https://www.cs.jhu.edu/event/getting-the-most-out-of-your-phd/
LOCATION:Zoom
END:VEVENT
END:VCALENDAR