BEGIN:VCALENDAR
VERSION:2.0
PRODID:-//Department of Computer Science - ECPv5.12.3//NONSGML v1.0//EN
CALSCALE:GREGORIAN
METHOD:PUBLISH
X-WR-CALNAME:Department of Computer Science
X-ORIGINAL-URL:https://www.cs.jhu.edu
X-WR-CALDESC:Events for Department of Computer Science
BEGIN:VTIMEZONE
TZID:America/New_York
BEGIN:DAYLIGHT
TZOFFSETFROM:-0500
TZOFFSETTO:-0400
TZNAME:EDT
DTSTART:20190310T070000
END:DAYLIGHT
BEGIN:STANDARD
TZOFFSETFROM:-0400
TZOFFSETTO:-0500
TZNAME:EST
DTSTART:20191103T060000
END:STANDARD
END:VTIMEZONE
BEGIN:VEVENT
DTSTART;TZID=America/New_York:20191107T104500
DTEND;TZID=America/New_York:20191107T114500
DTSTAMP:20220112T093234
CREATED:20210629T210720Z
LAST-MODIFIED:20210629T210720Z
UID:1962360-1573123500-1573127100@www.cs.jhu.edu
SUMMARY:Gerald M. Masson Distinguished Lecture Series: Jodi Forlizzi\, Carnegie Mellon University – “Designing Today’s Product-Service Ecologies”
DESCRIPTION:LocationHackerman Hall B-17AbstractA recent New York Times article boldly stated that the Golden Age of Design is upon us. Our society is certainly in the midst of a great shift in how we view the world. In the past century\, we have moved from the Age of Craft to the Industrial Age; we are currently on the cusp of the Age of Information. In the 20th century\, innovations including the personal computer\, the internet\, smart phones\, cloud computing\, wearable computers and 3D and CNC printing have helped to radically change our conception of what we design. Today\, designers no longer create products; they instead create platforms for open innovation.This talk will reflect my walk through the discipline of design’s many eras and shifts\, in order to understand this movement from designing products to designing platforms. The eras of user-centered design\, experience design\, service design\, and systems design will be explored to better understand this migration. An alternative framing\, product-service ecologies\, will be introduced to stress a systemic and ecological view as a design approach to designing the products\, services\, environments\, and platforms of today. A systemic view ensures that the designer can identify a need and understand the implications of designing something to impact the ecology in a positive way. A systemic view helps move the designer from problem solving to problem seeking\, from modeling to understanding relationships\, and from prototyping to perturbing the system to understand outcomes. It also ensures that designers are creating pragmatic and purposeful systems that will improve the state of today’s world.BioJodi Forlizzi is the Geschke Director and a Professor of Human-Computer Interaction in the School of Computer Science at Carnegie Mellon University. She is responsible for establishing design research as a legitimate form of research in HCI that is different from\, but equally as important as\, scientific and human science research. For the past 20 years\, Jodi has advocated for design research in all forms\, mentoring peers\, colleagues\, and students in its structure and execution\, and today it is an important part of the CHI community.Jodi’s current research interests include designing educational games that are engaging and effective\, designing robots\, AVs\, and other technology services that use AI and ML to adapt to people’s needs\, and designing for healthcare. Jodi is a member of the ACM CHI Academy and has been honored by the Walter Reed Army Medical Center for excellence in HRI design research. Jodi has consulted with Disney and General Motors to create innovative product-service systems.HostMike SchatzVideoWatch seminar video.
URL:https://www.cs.jhu.edu/event/gerald-m-masson-distinguished-lecture-series-jodi-forlizzi-carnegie-mellon-university-designing-todays-product-service-ecologies/
END:VEVENT
END:VCALENDAR