BEGIN:VCALENDAR
VERSION:2.0
PRODID:-//Department of Computer Science - ECPv6.15.20//NONSGML v1.0//EN
CALSCALE:GREGORIAN
METHOD:PUBLISH
X-WR-CALNAME:Department of Computer Science
X-ORIGINAL-URL:https://www.cs.jhu.edu
X-WR-CALDESC:Events for Department of Computer Science
REFRESH-INTERVAL;VALUE=DURATION:PT1H
X-Robots-Tag:noindex
X-PUBLISHED-TTL:PT1H
BEGIN:VTIMEZONE
TZID:America/New_York
BEGIN:DAYLIGHT
TZOFFSETFROM:-0500
TZOFFSETTO:-0400
TZNAME:EDT
DTSTART:20180311T070000
END:DAYLIGHT
BEGIN:STANDARD
TZOFFSETFROM:-0400
TZOFFSETTO:-0500
TZNAME:EST
DTSTART:20181104T060000
END:STANDARD
BEGIN:DAYLIGHT
TZOFFSETFROM:-0500
TZOFFSETTO:-0400
TZNAME:EDT
DTSTART:20190310T070000
END:DAYLIGHT
BEGIN:STANDARD
TZOFFSETFROM:-0400
TZOFFSETTO:-0500
TZNAME:EST
DTSTART:20191103T060000
END:STANDARD
BEGIN:DAYLIGHT
TZOFFSETFROM:-0500
TZOFFSETTO:-0400
TZNAME:EDT
DTSTART:20200308T070000
END:DAYLIGHT
BEGIN:STANDARD
TZOFFSETFROM:-0400
TZOFFSETTO:-0500
TZNAME:EST
DTSTART:20201101T060000
END:STANDARD
END:VTIMEZONE
BEGIN:VEVENT
DTSTART;TZID=America/New_York:20190402T104500
DTEND;TZID=America/New_York:20190402T114500
DTSTAMP:20260422T144927
CREATED:20210629T210718Z
LAST-MODIFIED:20210629T210718Z
UID:1962260-1554201900-1554205500@www.cs.jhu.edu
SUMMARY:Distinguished Lecturer: Eva Tardos\, Cornell University – “Learning and Efficiency of Outcomes in Games”
DESCRIPTION:LocationHackerman Hall B-17AbstractSelfish behavior can often lead to suboptimal outcome for all participants\, a phenomenon illustrated by many classical examples in game theory.  Over the last decade we have studied Nash equilibria of games\, and developed good understanding how to quantify the impact of strategic user behavior on overall performance in many games (including traffic routing as well as online auctions). In this talk we will focus on games where players use a form of learning that helps them adapt to the environment. We ask if the quantitative guarantees obtained for Nash equilibria extend to such out of equilibrium game play\, or  even more broadly\, when the game or the population of players is dynamically changing and where participants have to adapt to the dynamic environment.BioEva Tardos is the Jacob Gould Schurman Professor of Computer Science at Cornell University\, was Computer Science department chair in 2006-2010. She received her BA and PhD from Eotvos University in Budapest in 1984 and joined the faculty at Cornell in 1989. Her research interest is algorithms\, networks\, and the interface of economics and computer science\, focusing on the theory of designing systems and algorithms for users with diverse economic interests. For her work\, Tardos has been elected to the National Academy of Engineering\, National Academy of Sciences\, and the American Academy of Arts and Sciences\, and she is a fellow of multiple societies (ACM\, AMS\, SIAM\, INFORMS). Dr. Tardos is also the recipient of several fellowships and awards including the Packard Fellowship\, the Fulkerson Prize and the Goedel Prize. Most recently\, IEEE announced that Dr. Tardos will receive the 2019 IEEE John von Neumann Medal in May for outstanding achievement in computer-related science and technology.VideoWatch seminar video.
URL:https://www.cs.jhu.edu/event/distinguished-lecturer-eva-tardos-cornell-university-learning-and-efficiency-of-outcomes-in-games/
END:VEVENT
END:VCALENDAR