BEGIN:VCALENDAR
VERSION:2.0
PRODID:-//Department of Computer Science - ECPv6.15.20//NONSGML v1.0//EN
CALSCALE:GREGORIAN
METHOD:PUBLISH
X-WR-CALNAME:Department of Computer Science
X-ORIGINAL-URL:https://www.cs.jhu.edu
X-WR-CALDESC:Events for Department of Computer Science
REFRESH-INTERVAL;VALUE=DURATION:PT1H
X-Robots-Tag:noindex
X-PUBLISHED-TTL:PT1H
BEGIN:VTIMEZONE
TZID:America/New_York
BEGIN:DAYLIGHT
TZOFFSETFROM:-0500
TZOFFSETTO:-0400
TZNAME:EDT
DTSTART:20170312T070000
END:DAYLIGHT
BEGIN:STANDARD
TZOFFSETFROM:-0400
TZOFFSETTO:-0500
TZNAME:EST
DTSTART:20171105T060000
END:STANDARD
BEGIN:DAYLIGHT
TZOFFSETFROM:-0500
TZOFFSETTO:-0400
TZNAME:EDT
DTSTART:20180311T070000
END:DAYLIGHT
BEGIN:STANDARD
TZOFFSETFROM:-0400
TZOFFSETTO:-0500
TZNAME:EST
DTSTART:20181104T060000
END:STANDARD
BEGIN:DAYLIGHT
TZOFFSETFROM:-0500
TZOFFSETTO:-0400
TZNAME:EDT
DTSTART:20190310T070000
END:DAYLIGHT
BEGIN:STANDARD
TZOFFSETFROM:-0400
TZOFFSETTO:-0500
TZNAME:EST
DTSTART:20191103T060000
END:STANDARD
END:VTIMEZONE
BEGIN:VEVENT
DTSTART;TZID=America/New_York:20181009T103000
DTEND;TZID=America/New_York:20181009T114500
DTSTAMP:20260422T182634
CREATED:20210629T210715Z
LAST-MODIFIED:20210629T210715Z
UID:1962170-1539081000-1539085500@www.cs.jhu.edu
SUMMARY:Distinguished Lecturer: Dahlia Malkhi\, VMWare Research – “BFT in the lens of Blockchains and Blockchains in the lens of BFT”
DESCRIPTION:LocationHackerman Hall B-17AbstractBlockchain is a Byzantine Fault Tolerant (BFT) replicated state machine\, in which each state-update is by itself a Turing machine with bounded resources.  The core algorithm for achieving BFT in a Blockchain appears completely different from classical BFT algorithms:Recent advances in blockchain technology blur these boundaries. Namely\, hybrid solutions such as Byzcoin\, Bitcoin-NG\, Hybrid Consensus\, Casper and Solida\, anchor off-chain BFT decisions inside a PoW chain or the other way around. This talk keynote will describe Blockchain in the lens of BFT and BFT in the lens of Blockchain\, and provide common algorithmic foundations for both.VideoWatch seminar video.
URL:https://www.cs.jhu.edu/event/distinguished-lecturer-dahlia-malkhi-vmware-research-bft-in-the-lens-of-blockchains-and-blockchains-in-the-lens-of-bft/
END:VEVENT
END:VCALENDAR