BEGIN:VCALENDAR
VERSION:2.0
PRODID:-//Department of Computer Science - ECPv6.15.20//NONSGML v1.0//EN
CALSCALE:GREGORIAN
METHOD:PUBLISH
X-WR-CALNAME:Department of Computer Science
X-ORIGINAL-URL:https://www.cs.jhu.edu
X-WR-CALDESC:Events for Department of Computer Science
REFRESH-INTERVAL;VALUE=DURATION:PT1H
X-Robots-Tag:noindex
X-PUBLISHED-TTL:PT1H
BEGIN:VTIMEZONE
TZID:America/New_York
BEGIN:DAYLIGHT
TZOFFSETFROM:-0500
TZOFFSETTO:-0400
TZNAME:EDT
DTSTART:20200308T070000
END:DAYLIGHT
BEGIN:STANDARD
TZOFFSETFROM:-0400
TZOFFSETTO:-0500
TZNAME:EST
DTSTART:20201101T060000
END:STANDARD
BEGIN:DAYLIGHT
TZOFFSETFROM:-0500
TZOFFSETTO:-0400
TZNAME:EDT
DTSTART:20210314T070000
END:DAYLIGHT
BEGIN:STANDARD
TZOFFSETFROM:-0400
TZOFFSETTO:-0500
TZNAME:EST
DTSTART:20211107T060000
END:STANDARD
BEGIN:DAYLIGHT
TZOFFSETFROM:-0500
TZOFFSETTO:-0400
TZNAME:EDT
DTSTART:20220313T070000
END:DAYLIGHT
BEGIN:STANDARD
TZOFFSETFROM:-0400
TZOFFSETTO:-0500
TZNAME:EST
DTSTART:20221106T060000
END:STANDARD
END:VTIMEZONE
BEGIN:VEVENT
DTSTART;TZID=America/New_York:20210219T100000
DTEND;TZID=America/New_York:20210219T110000
DTSTAMP:20260422T144819
CREATED:20210629T210727Z
LAST-MODIFIED:20210629T210727Z
UID:1962590-1613728800-1613732400@www.cs.jhu.edu
SUMMARY:Dhanya Sridhar\, Columbia University – “Beyond prediction: NLP for causal inference”
DESCRIPTION:Locationhttps://wse.zoom.us/j/97415338992AbstractWhy do some misleading articles go viral? Does partisan speech affect how people behave? Many pressing questions require understanding the effects of language. These are causal questions: did an article’s writing style cause it to go viral or would it have gone viral anyway? With text data from social media and news sites\, we can build predictors with natural language processing (NLP) techniques but these methods can confuse correlation with causation. In this talk\, I discuss my recent work on NLP methods for making causal inferences from text. Text data present unique challenges for disentangling causal effects from non-causal correlations. I present approaches that address these challenges by extending black box and probabilistic NLP methods. I outline the validity of these methods for causal inference\, and demonstrate their applications to online forum comments and consumer complaints. I conclude with my research vision for a data analysis pipeline that bridges causal thinking and machine learning to enable better decision-making and scientific understanding.BioDhanya Sridhar is a postdoctoral researcher in the Data Science Institute at Columbia University. She completed her PhD at the University of California Santa Cruz. Her current research is at the intersection of machine learning and causal inference\, focusing on applications to social science. Her thesis research focused on probabilistic models of relational data.HostMark DredzeVideoWatch seminar video.
URL:https://www.cs.jhu.edu/event/dhanya-sridhar-columbia-university-beyond-prediction-nlp-for-causal-inference/
END:VEVENT
END:VCALENDAR