BEGIN:VCALENDAR
VERSION:2.0
PRODID:-//Department of Computer Science - ECPv6.15.20//NONSGML v1.0//EN
CALSCALE:GREGORIAN
METHOD:PUBLISH
X-WR-CALNAME:Department of Computer Science
X-ORIGINAL-URL:https://www.cs.jhu.edu
X-WR-CALDESC:Events for Department of Computer Science
REFRESH-INTERVAL;VALUE=DURATION:PT1H
X-Robots-Tag:noindex
X-PUBLISHED-TTL:PT1H
BEGIN:VTIMEZONE
TZID:America/New_York
BEGIN:DAYLIGHT
TZOFFSETFROM:-0500
TZOFFSETTO:-0400
TZNAME:EDT
DTSTART:20230312T070000
END:DAYLIGHT
BEGIN:STANDARD
TZOFFSETFROM:-0400
TZOFFSETTO:-0500
TZNAME:EST
DTSTART:20231105T060000
END:STANDARD
BEGIN:DAYLIGHT
TZOFFSETFROM:-0500
TZOFFSETTO:-0400
TZNAME:EDT
DTSTART:20240310T070000
END:DAYLIGHT
BEGIN:STANDARD
TZOFFSETFROM:-0400
TZOFFSETTO:-0500
TZNAME:EST
DTSTART:20241103T060000
END:STANDARD
BEGIN:DAYLIGHT
TZOFFSETFROM:-0500
TZOFFSETTO:-0400
TZNAME:EDT
DTSTART:20250309T070000
END:DAYLIGHT
BEGIN:STANDARD
TZOFFSETFROM:-0400
TZOFFSETTO:-0500
TZNAME:EST
DTSTART:20251102T060000
END:STANDARD
END:VTIMEZONE
BEGIN:VEVENT
DTSTART;TZID=America/New_York:20241121T120000
DTEND;TZID=America/New_York:20241121T131500
DTSTAMP:20260425T090440
CREATED:20241114T185310Z
LAST-MODIFIED:20241114T185310Z
UID:1984577-1732190400-1732194900@www.cs.jhu.edu
SUMMARY:CS Seminar Series: Probabilistic Experimental Design for Synthesizing DNA
DESCRIPTION:Lunch will be served at 12 p.m. The seminar will begin at 12:15 p.m. \nAbstract\nIn this talk\, Eli N. Weinstein studies how to efficiently manufacture samples from a generative model in the real world. He shows how computational methods for approximate sampling can be adapted into experimental design methods for efficiently making samples in the laboratory. He also develops tools to rigorously evaluate the quality of manufactured samples\, proposing nonparametric two-sample tests with strong theoretical guarantees and scalable algorithms. He applies these methods to DNA synthesis\, since the cost of DNA synthesis is considered a fundamental technological driver of progress of biology and biomedicine. He demonstrates manufacturing ~10^17 samples from a generative model of human antibodies at a sample quality comparable to that of state-of-the-art protein language models. These samples cost roughly a thousand dollars to make (~$10^3)\, while using previous methods they would cost roughly a quadrillion dollars (~$10^15). \nSpeaker Biography\nEli N. Weinstein is a postdoctoral research scientist at Columbia University advised by David Blei. He also serves as the director of machine learning research at Jura Bio\, a biotechnology startup focused on genetic medicine. Weinstein’s research is in probabilistic machine learning\, with an emphasis on causal inference and experimental design. His applied work focuses on biology\, especially therapeutics. He completed his PhD in biophysics at Harvard University in 2022\, advised by Debora Marks and Jeffrey Miller and supported by a Hertz Foundation Fellowship. Previously\, he received an AB in chemistry and physics with highest honors\, also from Harvard\, advised by Adam Cohen. His work has been published at venues including the Conference and Workshop on Neural Information Processing Systems\, the International Conference on Machine Learning\, the International Conference on Artificial Intelligence and Statistics\, and the Journal of Machine Learning Research\, and has received Best Paper Awards from the New England Statistical Society in 2021 and 2023 and the Molecular Machine Learning Conference in 2024. \nZoom link >>
URL:https://www.cs.jhu.edu/event/cs-seminar-series-probabilistic-experimental-design-for-synthesizing-dna/
LOCATION:228 Malone Hall
CATEGORIES:Seminars and Lectures
END:VEVENT
END:VCALENDAR