BEGIN:VCALENDAR
VERSION:2.0
PRODID:-//Department of Computer Science - ECPv5.12.3//NONSGML v1.0//EN
CALSCALE:GREGORIAN
METHOD:PUBLISH
X-WR-CALNAME:Department of Computer Science
X-ORIGINAL-URL:https://www.cs.jhu.edu
X-WR-CALDESC:Events for Department of Computer Science
BEGIN:VTIMEZONE
TZID:America/New_York
BEGIN:DAYLIGHT
TZOFFSETFROM:-0500
TZOFFSETTO:-0400
TZNAME:EDT
DTSTART:20200308T070000
END:DAYLIGHT
BEGIN:STANDARD
TZOFFSETFROM:-0400
TZOFFSETTO:-0500
TZNAME:EST
DTSTART:20201101T060000
END:STANDARD
END:VTIMEZONE
BEGIN:VEVENT
DTSTART;TZID=America/New_York:20200305T104500
DTEND;TZID=America/New_York:20200305T114500
DTSTAMP:20220112T093154
CREATED:20210629T210722Z
LAST-MODIFIED:20210629T210722Z
UID:1962425-1583405100-1583408700@www.cs.jhu.edu
SUMMARY:CS Seminar – “Interactive Systems for “Smart Things” with Better Sensing\, UI\, and Low Energy Consumption.”
DESCRIPTION:LocationHackerman B-17AbstractInteractive devices are an essential component of any computing system. However\, those that are widely used today (e.g.\, a touchscreen) do not fit well with the new forms of computing in the era of “Smart Things” and beyond\, where computing is no longer restricted to a square machine or flat surface\, but is instead carried out on smart everyday “things” (curved or flat\, soft or rigid) that are at home\, at a workspace\, or worn on the body. As such new interactive devices and software systems need to be developed to allow a wide adoption of this technology for significant societal benefits.In this talk\, I will present three projects to exemplify our efforts in this space by demonstrating our approaches to overcome some of the major challenges we are facing in hardware (e.g.\, sensing)\, software (e.g.\, user interface)\, and energy consumption. For sensing\, I will present a soft sensor\, developed for contextual interactions on interactive fabrics based on the precise detection and recognition of conductive objects that are commonly found in households and workplaces. For user interface\, I will introduce an on-fingertip keyboard\, optimized for eyes-free typing using micro finger gestures. For energy consumption\, I will present a self-powered module for gesture recognition that utilizes solar cells for both energy harvesting and gesture sensing. I will also describe the visions behind these three lines of research.BioXing-Dong Yang is an Assistant Professor of Computer Science at Dartmouth College. His research is broadly in Human-Computer Interaction (HCI)\, where he investigates future interactive systems and brings interactivity to everyday objects for social good. Xing-Dong’s work is recognized through Best Paper award at ACM UIST 2019 and Honorable Mention awards at ACM CHI 2019\, 2018\, 2016\, 2010 and ACM MobileHCI 2009. Aside from academic publications\, Xing-Dong’s work attracts major public interest via news coverage from a variety of media outlets with different mediums\, including TV (e.g.\, Discovery Daily Planet)\, print (e.g.\, The Wall Street Journal\, Forbes)\, and Internet News (e.g.\, MIT Technology Review\, New Scientist).HostChien-Ming HuangVideoWatch seminar video.
URL:https://www.cs.jhu.edu/event/cs-seminar-interactive-systems-for-smart-things-with-better-sensing-ui-and-low-energy-consumption/
END:VEVENT
END:VCALENDAR