BEGIN:VCALENDAR
VERSION:2.0
PRODID:-//Department of Computer Science - ECPv6.15.20//NONSGML v1.0//EN
CALSCALE:GREGORIAN
METHOD:PUBLISH
X-WR-CALNAME:Department of Computer Science
X-ORIGINAL-URL:https://www.cs.jhu.edu
X-WR-CALDESC:Events for Department of Computer Science
REFRESH-INTERVAL;VALUE=DURATION:PT1H
X-Robots-Tag:noindex
X-PUBLISHED-TTL:PT1H
BEGIN:VTIMEZONE
TZID:America/New_York
BEGIN:DAYLIGHT
TZOFFSETFROM:-0500
TZOFFSETTO:-0400
TZNAME:EDT
DTSTART:20180311T070000
END:DAYLIGHT
BEGIN:STANDARD
TZOFFSETFROM:-0400
TZOFFSETTO:-0500
TZNAME:EST
DTSTART:20181104T060000
END:STANDARD
BEGIN:DAYLIGHT
TZOFFSETFROM:-0500
TZOFFSETTO:-0400
TZNAME:EDT
DTSTART:20190310T070000
END:DAYLIGHT
BEGIN:STANDARD
TZOFFSETFROM:-0400
TZOFFSETTO:-0500
TZNAME:EST
DTSTART:20191103T060000
END:STANDARD
BEGIN:DAYLIGHT
TZOFFSETFROM:-0500
TZOFFSETTO:-0400
TZNAME:EDT
DTSTART:20200308T070000
END:DAYLIGHT
BEGIN:STANDARD
TZOFFSETFROM:-0400
TZOFFSETTO:-0500
TZNAME:EST
DTSTART:20201101T060000
END:STANDARD
END:VTIMEZONE
BEGIN:VEVENT
DTSTART;TZID=America/New_York:20190212T104500
DTEND;TZID=America/New_York:20190212T114500
DTSTAMP:20260422T164706
CREATED:20210629T210716Z
LAST-MODIFIED:20210629T210716Z
UID:1962205-1549968300-1549971900@www.cs.jhu.edu
SUMMARY:CS Seminar: Elissa Redmiles\, University of Maryland – “Security for All: Modeling Structural Inequities to Design More Secure Systems”
DESCRIPTION:LocationHackerman Hall B-17AbstractUsers often fall for phishing emails\, reuse simple passwords\, and fail to effectively utilize “provably” secure systems. These behaviors expose users to significant harm and frustrate industry practitioners and security researchers alike. As consequences of security breaches become ever more grave\, it is important to study why humans behave seemingly irrationally. In this talk\, I will illustrate how modeling the effects of structural inequities — variance in skill\, socioeconomic status\, as well as culture and gender identity — can both explain apparent irrationality in users�� security behavior and offer tangible improvements in industry systems. Modeling and mitigating security inequities requires a combination of techniques from economic\, data scientific\, and social science methodologies to develop new tools for systematically understanding and mitigating insecure behavior.Through novel experimental methodology\, I empirically show strong evidence of bounded rationality in security behavior: Users make mathematically modelable tradeoffs between the protection offered by security behaviors and the costs of practicing those behaviors\, which even in a highly usable system may outweigh the benefits\, especially for less resourced users. These findings emphasize the need for industry systems that balance structural inequities and accommodate behavioral variance between users rather than one-size-fits-all security solutions. More broadly\, my techniques for modeling and accounting for inequities have offered key insights in growing technical areas beyond security\, including algorithmic fairness.BioElissa Redmiles is a Ph.D. Candidate in Computer Science at the University of Maryland and has been a visiting researcher with the Max Planck Institute for Software Systems and the University of Zurich. Elissa’s research interests are broadly in the areas of security and privacy. She uses computational\, economic\, and social science methods to conduct research on behavioral security. Elissa seeks to understand users’ security and privacy decision-making processes and specifically investigate inequalities that arise in these processes and to mitigate those inequalities through the design of systems that facilitate safety equitably across users. Elissa is the recipient of a NSF Graduate Research Fellowship\, a National Science Defense and Engineering Graduate Fellowship\, and a Facebook Fellowship. Her work has appeared in popular press publications such as Scientific American\, Business Insider\, Newsweek\, and CNET and has been recognized with the John Karat Usable Privacy and Security Student Research Award\, a Distinguished Paper Award at USENIX Security 2018\, and a University of Maryland Outstanding Graduate Student Award.HostAvi RubinVideoWatch seminar video.
URL:https://www.cs.jhu.edu/event/cs-seminar-elissa-redmiles-university-of-maryland-security-for-all-modeling-structural-inequities-to-design-more-secure-systems/
END:VEVENT
END:VCALENDAR