BEGIN:VCALENDAR
VERSION:2.0
PRODID:-//Department of Computer Science - ECPv6.15.20//NONSGML v1.0//EN
CALSCALE:GREGORIAN
METHOD:PUBLISH
X-WR-CALNAME:Department of Computer Science
X-ORIGINAL-URL:https://www.cs.jhu.edu
X-WR-CALDESC:Events for Department of Computer Science
REFRESH-INTERVAL;VALUE=DURATION:PT1H
X-Robots-Tag:noindex
X-PUBLISHED-TTL:PT1H
BEGIN:VTIMEZONE
TZID:America/New_York
BEGIN:DAYLIGHT
TZOFFSETFROM:-0500
TZOFFSETTO:-0400
TZNAME:EDT
DTSTART:20180311T070000
END:DAYLIGHT
BEGIN:STANDARD
TZOFFSETFROM:-0400
TZOFFSETTO:-0500
TZNAME:EST
DTSTART:20181104T060000
END:STANDARD
BEGIN:DAYLIGHT
TZOFFSETFROM:-0500
TZOFFSETTO:-0400
TZNAME:EDT
DTSTART:20190310T070000
END:DAYLIGHT
BEGIN:STANDARD
TZOFFSETFROM:-0400
TZOFFSETTO:-0500
TZNAME:EST
DTSTART:20191103T060000
END:STANDARD
BEGIN:DAYLIGHT
TZOFFSETFROM:-0500
TZOFFSETTO:-0400
TZNAME:EDT
DTSTART:20200308T070000
END:DAYLIGHT
BEGIN:STANDARD
TZOFFSETFROM:-0400
TZOFFSETTO:-0500
TZNAME:EST
DTSTART:20201101T060000
END:STANDARD
END:VTIMEZONE
BEGIN:VEVENT
DTSTART;TZID=America/New_York:20191031T104500
DTEND;TZID=America/New_York:20191031T114500
DTSTAMP:20260422T144812
CREATED:20210629T210720Z
LAST-MODIFIED:20210629T210720Z
UID:1962350-1572518700-1572522300@www.cs.jhu.edu
SUMMARY:CS Seminar: Benoit Gallix\, McGill University – “How Artificial Intelligence and Robotic is Transforming Minimally Invasive Surgery”
DESCRIPTION:LocationHackerman Hall B-17AbstractThe use of robotic surgical systems – in conjunction with image guidance – is changing the world of surgery to less and less invasive procedures. As the field of robotic surgery evolves\, the integration of pre- and per-operative medical imaging data becomes essential. This advanced visualization is necessary to provide a complete vision that includes anatomical\, physiological\, and functional information on the structures located in the field of intervention. Artificial intelligence (AI) and large data can facilitate the management and presentation of this crucial information by highlighting blood vessels\, or tumor margins of tissues that may be difficult to discern with the naked eye or on a screen. AI in diagnostic medical imaging is already the precursor to the application of this technology in healthcare\, with significant advances that take advantage of in-depth learning technologies. Image-guided surgery (IGS) – sometimes considered a global positioning system – as interventional radiology is gaining importance because it allows operators to perform minimally invasive surgical procedures in the inner part of solid organ where previously large resections had to be performed. For all pipe-shaped structures such as the digestive tract or bronchial tubes\, robotic endoscopy will be needed to overcome the limits of standard therapeutic procedures by offering operating capacities close to those of rigid endoscopy.  The need for imaging – pre- and per-operative – for endoscopic intervention is increasing to allow for more guidance in particular in the event of in-depth intervention.BioI am a radiologist\, professor of medicine both in France and Canada. Much of my research focus onabdominal imaging\, both diagnostic and interventional\, with a special interest in the therapy of cancer.When I arrived at McGill in 2013\, as Chair and Director of the Imaging Department\, I created incollaboration with the teams of computer Sciences from McGill (Center for Intelligent Machine) aresearch laboratory focus on Artificial Intelligence. My research activities are at the interface betweenOncology\, Medical Imaging\, and Computer Vision with the objective of developing new methods of tumorquantification by imaging\, in order to select patients who are likely to respond to a specific treatmentand to evaluate their response very early. I was recently recruited – through an international competition– by the University and the IHU of Strasbourg to take over the position of CEO of the IHU.VideoWatch seminar video.
URL:https://www.cs.jhu.edu/event/cs-seminar-benoit-gallix-mcgill-university-how-artificial-intelligence-and-robotic-is-transforming-minimally-invasive-surgery/
END:VEVENT
END:VCALENDAR