BEGIN:VCALENDAR
VERSION:2.0
PRODID:-//Department of Computer Science - ECPv5.12.3//NONSGML v1.0//EN
CALSCALE:GREGORIAN
METHOD:PUBLISH
X-WR-CALNAME:Department of Computer Science
X-ORIGINAL-URL:https://www.cs.jhu.edu
X-WR-CALDESC:Events for Department of Computer Science
BEGIN:VTIMEZONE
TZID:America/New_York
BEGIN:DAYLIGHT
TZOFFSETFROM:-0500
TZOFFSETTO:-0400
TZNAME:EDT
DTSTART:20200308T070000
END:DAYLIGHT
BEGIN:STANDARD
TZOFFSETFROM:-0400
TZOFFSETTO:-0500
TZNAME:EST
DTSTART:20201101T060000
END:STANDARD
END:VTIMEZONE
BEGIN:VEVENT
DTSTART;TZID=America/New_York:20201008T104500
DTEND;TZID=America/New_York:20201008T120000
DTSTAMP:20220112T094746
CREATED:20210629T210724Z
LAST-MODIFIED:20210629T210724Z
UID:1962475-1602153900-1602158400@www.cs.jhu.edu
SUMMARY:CS Phd Town Hall
DESCRIPTION:Join us for the PhD town hall!If you have questions\, it’ll be a great time to ask. If you have concerns\, it’ll be the perfect time to voice them (judgement-free\, of course). If you don’t have specific questions or concerns\, it’s still an ideal opportunity to take in some program statistics and listen to what your peers + your department chairs have to say about the PhD requirements. If you can’t or would rather not attend\, that’s okay too! It’s not a mandatory meeting.Here’s the link to our PhD Advising Manual. Page one contains the general timeline for completing the CS PhD. There’s lots of additional information about each milestone throughout the document. Give it a read\, if you haven’t already.Hope to see you there! \nZoom details: https://wse.zoom.us/j/93311667011
URL:https://www.cs.jhu.edu/event/cs-phd-town-hall/
END:VEVENT
END:VCALENDAR