BEGIN:VCALENDAR
VERSION:2.0
PRODID:-//Department of Computer Science - ECPv6.15.20//NONSGML v1.0//EN
CALSCALE:GREGORIAN
METHOD:PUBLISH
X-WR-CALNAME:Department of Computer Science
X-ORIGINAL-URL:https://www.cs.jhu.edu
X-WR-CALDESC:Events for Department of Computer Science
REFRESH-INTERVAL;VALUE=DURATION:PT1H
X-Robots-Tag:noindex
X-PUBLISHED-TTL:PT1H
BEGIN:VTIMEZONE
TZID:America/New_York
BEGIN:DAYLIGHT
TZOFFSETFROM:-0500
TZOFFSETTO:-0400
TZNAME:EDT
DTSTART:20170312T070000
END:DAYLIGHT
BEGIN:STANDARD
TZOFFSETFROM:-0400
TZOFFSETTO:-0500
TZNAME:EST
DTSTART:20171105T060000
END:STANDARD
BEGIN:DAYLIGHT
TZOFFSETFROM:-0500
TZOFFSETTO:-0400
TZNAME:EDT
DTSTART:20180311T070000
END:DAYLIGHT
BEGIN:STANDARD
TZOFFSETFROM:-0400
TZOFFSETTO:-0500
TZNAME:EST
DTSTART:20181104T060000
END:STANDARD
BEGIN:DAYLIGHT
TZOFFSETFROM:-0500
TZOFFSETTO:-0400
TZNAME:EDT
DTSTART:20190310T070000
END:DAYLIGHT
BEGIN:STANDARD
TZOFFSETFROM:-0400
TZOFFSETTO:-0500
TZNAME:EST
DTSTART:20191103T060000
END:STANDARD
END:VTIMEZONE
BEGIN:VEVENT
DTSTART;TZID=America/New_York:20180920T103000
DTEND;TZID=America/New_York:20180920T123000
DTSTAMP:20260422T174127
CREATED:20210629T210714Z
LAST-MODIFIED:20210629T210714Z
UID:1962105-1537439400-1537446600@www.cs.jhu.edu
SUMMARY:CS Annual State of the Department Address
DESCRIPTION:Each year we gather our faculty\, graduate students\, and staff to update them on the State of the CS Department. There are lots of new faces in the department this year so we hope you will make the time to attend the talk and say hello to your colleagues! We want you to have the opportunity to get to know and interact with your fellow students and faculty before you get deeply engrossed in your classes and research.Please provide an RSVP here by Thursday September 13 so that we can plan for the catering.
URL:https://www.cs.jhu.edu/event/cs-annual-state-of-the-department-address/
END:VEVENT
END:VCALENDAR