BEGIN:VCALENDAR
VERSION:2.0
PRODID:-//Department of Computer Science - ECPv5.12.3//NONSGML v1.0//EN
CALSCALE:GREGORIAN
METHOD:PUBLISH
X-WR-CALNAME:Department of Computer Science
X-ORIGINAL-URL:https://www.cs.jhu.edu
X-WR-CALDESC:Events for Department of Computer Science
BEGIN:VTIMEZONE
TZID:America/New_York
BEGIN:DAYLIGHT
TZOFFSETFROM:-0500
TZOFFSETTO:-0400
TZNAME:EDT
DTSTART:20190310T070000
END:DAYLIGHT
BEGIN:STANDARD
TZOFFSETFROM:-0400
TZOFFSETTO:-0500
TZNAME:EST
DTSTART:20191103T060000
END:STANDARD
END:VTIMEZONE
BEGIN:VEVENT
DTSTART;TZID=America/New_York:20191121T100000
DTEND;TZID=America/New_York:20191121T120000
DTSTAMP:20220112T094008
CREATED:20210629T210721Z
LAST-MODIFIED:20210629T210721Z
UID:1962380-1574330400-1574337600@www.cs.jhu.edu
SUMMARY:Computer Science Student Defense: Younsu Kim\, Johns Hopkins University – “Towards modular ultrasound system for medical intervention and image guided therapy: Ultrasound temperature monitoring”
DESCRIPTION:LocationShaffer 100AbstractWe introduce a modular ultrasound paradigm\, focusing on its use of ultrasound thermometry. Thermotherapy is a medical procedure by which thermal energy is delivered to a target to induce desired clinical outcomes. It has been applied for various medical treatments such as ablation and hypothermia therapy. To achieve precise and reproducible results in thermotherapy\, temperature monitoring during the procedure is particularly important. To provide temperature information for thermotherapy\, we develop an ultrasound thermal monitoring method using a speed of sound tomographic approach coupled with a biophysical heat diffusion model. The system only requires simple hardware additions\, such as external ultrasound sensors\, to implement temperature monitoring at a reduced cost. Deep learning approaches are also used to obtain thermal images by training temperature distribution models using corresponding ultrasound data changes. Temperature images are achieved by leveraging only few ultrasound elements during thermotherapy. The modular ultrasound concept can also be extended for single-element ultrasound imaging and surgical tool tracking.BioYounsu Kim joined MUSIIC (Medical UltraSound Imaging and Intervention Collaboration) research laboratory at Johns Hopkins university since 2014. Prior to joining Ph.D program\, he worked as a research engineer at department of advanced technology in LG Electronics Inc\, Korea. He received his B.E. degree in micro-electrical engineering from Tsinghua University\, Beijing\, China\, and he earned a masters degree in electrical and computer engineering from Johns Hopkins University\, Baltimore\, US. His research interests include ultrasound thermal monitoring and interventional ultrasound-guided technologies.
URL:https://www.cs.jhu.edu/event/computer-science-student-defense-younsu-kim-johns-hopkins-university-towards-modular-ultrasound-system-for-medical-intervention-and-image-guided-therapy-ultrasound-temperature-mo/
END:VEVENT
END:VCALENDAR