BEGIN:VCALENDAR
VERSION:2.0
PRODID:-//Department of Computer Science - ECPv6.15.20//NONSGML v1.0//EN
CALSCALE:GREGORIAN
METHOD:PUBLISH
X-WR-CALNAME:Department of Computer Science
X-ORIGINAL-URL:https://www.cs.jhu.edu
X-WR-CALDESC:Events for Department of Computer Science
REFRESH-INTERVAL;VALUE=DURATION:PT1H
X-Robots-Tag:noindex
X-PUBLISHED-TTL:PT1H
BEGIN:VTIMEZONE
TZID:America/New_York
BEGIN:DAYLIGHT
TZOFFSETFROM:-0500
TZOFFSETTO:-0400
TZNAME:EDT
DTSTART:20170312T070000
END:DAYLIGHT
BEGIN:STANDARD
TZOFFSETFROM:-0400
TZOFFSETTO:-0500
TZNAME:EST
DTSTART:20171105T060000
END:STANDARD
BEGIN:DAYLIGHT
TZOFFSETFROM:-0500
TZOFFSETTO:-0400
TZNAME:EDT
DTSTART:20180311T070000
END:DAYLIGHT
BEGIN:STANDARD
TZOFFSETFROM:-0400
TZOFFSETTO:-0500
TZNAME:EST
DTSTART:20181104T060000
END:STANDARD
BEGIN:DAYLIGHT
TZOFFSETFROM:-0500
TZOFFSETTO:-0400
TZNAME:EDT
DTSTART:20190310T070000
END:DAYLIGHT
BEGIN:STANDARD
TZOFFSETFROM:-0400
TZOFFSETTO:-0500
TZNAME:EST
DTSTART:20191103T060000
END:STANDARD
END:VTIMEZONE
BEGIN:VEVENT
DTSTART;TZID=America/New_York:20181009T100000
DTEND;TZID=America/New_York:20181009T120000
DTSTAMP:20260422T150612
CREATED:20210629T210715Z
LAST-MODIFIED:20210629T210715Z
UID:1962165-1539079200-1539086400@www.cs.jhu.edu
SUMMARY:Computer Science Student Defense:: Jacob Pritt\, Johns Hopkins University – “Methods for Identifying Variation in Large-Scale Genomic Data”
DESCRIPTION:LocationMalone 107AbstractThe rise of next-generation sequencing has produced an abundance of data with almost limitless analysis applications. As sequencing technology decreases in cost and increases in throughput\, the amount of available data is quickly outpacing improvements in processor speed. Analysis methods must also increase in scale to remain computationally tractable. At the same time\, larger datasets and the availability of population-wide data offer a broader context with which to improve accuracy.This thesis presents three tools that improve the scalability of sequencing data storage and analysis. First\, a lossy compression method for RNA-seq alignments offers extreme size reduction without compromising downstream accuracy of isoform assembly and quantitation. Second\, I describe a graph genome analysis tool that filters population variants for optimal aligner performance. Finally\, I offer several methods for improving CNV segmentation accuracy\, including borrowing strength across samples to overcome the limitations of low coverage. Together\, these methods compose a practical toolkit for improving the computational power of genomic analysis.BioI am a Ph.D. candidate advised by Ben Langmead in the Department of Computer Science at Johns Hopkins University. My research focuses on developing scalable tools for genomic data analysis. I received a B.S. in Computer Science from Harvard University in 2013.
URL:https://www.cs.jhu.edu/event/computer-science-student-defense-jacob-pritt-johns-hopkins-university-methods-for-identifying-variation-in-large-scale-genomic-data/
END:VEVENT
END:VCALENDAR