BEGIN:VCALENDAR
VERSION:2.0
PRODID:-//Department of Computer Science - ECPv6.15.20//NONSGML v1.0//EN
CALSCALE:GREGORIAN
METHOD:PUBLISH
X-WR-CALNAME:Department of Computer Science
X-ORIGINAL-URL:https://www.cs.jhu.edu
X-WR-CALDESC:Events for Department of Computer Science
REFRESH-INTERVAL;VALUE=DURATION:PT1H
X-Robots-Tag:noindex
X-PUBLISHED-TTL:PT1H
BEGIN:VTIMEZONE
TZID:America/New_York
BEGIN:DAYLIGHT
TZOFFSETFROM:-0500
TZOFFSETTO:-0400
TZNAME:EDT
DTSTART:20180311T070000
END:DAYLIGHT
BEGIN:STANDARD
TZOFFSETFROM:-0400
TZOFFSETTO:-0500
TZNAME:EST
DTSTART:20181104T060000
END:STANDARD
BEGIN:DAYLIGHT
TZOFFSETFROM:-0500
TZOFFSETTO:-0400
TZNAME:EDT
DTSTART:20190310T070000
END:DAYLIGHT
BEGIN:STANDARD
TZOFFSETFROM:-0400
TZOFFSETTO:-0500
TZNAME:EST
DTSTART:20191103T060000
END:STANDARD
BEGIN:DAYLIGHT
TZOFFSETFROM:-0500
TZOFFSETTO:-0400
TZNAME:EDT
DTSTART:20200308T070000
END:DAYLIGHT
BEGIN:STANDARD
TZOFFSETFROM:-0400
TZOFFSETTO:-0500
TZNAME:EST
DTSTART:20201101T060000
END:STANDARD
END:VTIMEZONE
BEGIN:VEVENT
DTSTART;TZID=America/New_York:20190722T133000
DTEND;TZID=America/New_York:20190722T153000
DTSTAMP:20260422T144824
CREATED:20210629T210719Z
LAST-MODIFIED:20210629T210719Z
UID:1962305-1563802200-1563809400@www.cs.jhu.edu
SUMMARY:Computer Science Student Defense: Adam Teichert’\, Johns Hopkins University – “Graded Decompositional Semantic Prediction”
DESCRIPTION:LocationMalone 107AbstractLanguage suggests information about entities and events—real or imagined. We are interested in inferring such information or meaning\, such semantics\, from text. In this dissertation\, we build upon and contribute to a decompositional view of semantic prediction which is inherently (1) structured—multi-dimensional with correlation and possibly constraints among the possible semantic questions\, (2) graded—predicted quantities represent magnitudes or probabilities rather than binary or categorical values\,  and (3) subjective. Combining these aspects leads to interesting opportunities for modeling and annotation and raises important questions about the impact of these practices. Specifically\, we propose the first structured model for the task of Semantic Proto-Role Labeling\, casting the structured problem as a multi-label prediction task which we related empirically to semantic role labeling. We subsequently propose mathematical models of structured ordinal prediction that allow us to incorporate graded annotation and to jointly model multiple annotators. We investigate the decompositional semantic prediction task of Situation Frame Identification (a flavor of topic identification) and propose a graded model for the binary task. Finally\, we address issues in efficient scalar annotation.BioAdam Teichert is a PhD candidate in the Center for Language and Speech Processing and an Assistant Professor of Software Engineering at Snow College in Ephraim\, UT.  Before coming to Johns Hopkins\, he received a B.S. in Computer Science from Brigham Young University and a MS in Computing from the University of Utah.  His research has explored methods for efficient learning and inference in natural language processing with recent focus on structured models and related methods for decompositional semantic labeling and topic identification.HostBenjamin Van Durme
URL:https://www.cs.jhu.edu/event/computer-science-student-defense-adam-teichert-johns-hopkins-university-graded-decompositional-semantic-prediction/
END:VEVENT
END:VCALENDAR