BEGIN:VCALENDAR
VERSION:2.0
PRODID:-//Department of Computer Science - ECPv6.15.20//NONSGML v1.0//EN
CALSCALE:GREGORIAN
METHOD:PUBLISH
X-WR-CALNAME:Department of Computer Science
X-ORIGINAL-URL:https://www.cs.jhu.edu
X-WR-CALDESC:Events for Department of Computer Science
REFRESH-INTERVAL;VALUE=DURATION:PT1H
X-Robots-Tag:noindex
X-PUBLISHED-TTL:PT1H
BEGIN:VTIMEZONE
TZID:America/New_York
BEGIN:DAYLIGHT
TZOFFSETFROM:-0500
TZOFFSETTO:-0400
TZNAME:EDT
DTSTART:20170312T070000
END:DAYLIGHT
BEGIN:STANDARD
TZOFFSETFROM:-0400
TZOFFSETTO:-0500
TZNAME:EST
DTSTART:20171105T060000
END:STANDARD
BEGIN:DAYLIGHT
TZOFFSETFROM:-0500
TZOFFSETTO:-0400
TZNAME:EDT
DTSTART:20180311T070000
END:DAYLIGHT
BEGIN:STANDARD
TZOFFSETFROM:-0400
TZOFFSETTO:-0500
TZNAME:EST
DTSTART:20181104T060000
END:STANDARD
BEGIN:DAYLIGHT
TZOFFSETFROM:-0500
TZOFFSETTO:-0400
TZNAME:EDT
DTSTART:20190310T070000
END:DAYLIGHT
BEGIN:STANDARD
TZOFFSETFROM:-0400
TZOFFSETTO:-0500
TZNAME:EST
DTSTART:20191103T060000
END:STANDARD
END:VTIMEZONE
BEGIN:VEVENT
DTSTART;TZID=America/New_York:20181113T163000
DTEND;TZID=America/New_York:20181113T173000
DTSTAMP:20260422T155626
CREATED:20210629T210716Z
LAST-MODIFIED:20210629T210716Z
UID:1962195-1542126600-1542130200@www.cs.jhu.edu
SUMMARY:Computer Science Networking Workshop
DESCRIPTION:Calling all CS undergraduates and graduates! Come out to learn networking 101 for young professionals. The JHU Career Center and Computer Science Department want to prepare you for its upcoming Industry Meet and Greet (CS Plugged-In) where technology leaders from local companies of all sizes and JHU alumni affiliate companies will gather at FastForward U to connect with CS students for possible career opportunities. Click on the following link to register: https://jhu.joinhandshake.com/login. To download the flyer\, click here.
URL:https://www.cs.jhu.edu/event/computer-science-networking-workshop/
LOCATION:Malone Hall 228
END:VEVENT
END:VCALENDAR