BEGIN:VCALENDAR
VERSION:2.0
PRODID:-//Department of Computer Science - ECPv5.12.3//NONSGML v1.0//EN
CALSCALE:GREGORIAN
METHOD:PUBLISH
X-WR-CALNAME:Department of Computer Science
X-ORIGINAL-URL:https://www.cs.jhu.edu
X-WR-CALDESC:Events for Department of Computer Science
BEGIN:VTIMEZONE
TZID:America/New_York
BEGIN:DAYLIGHT
TZOFFSETFROM:-0500
TZOFFSETTO:-0400
TZNAME:EDT
DTSTART:20210314T070000
END:DAYLIGHT
BEGIN:STANDARD
TZOFFSETFROM:-0400
TZOFFSETTO:-0500
TZNAME:EST
DTSTART:20211107T060000
END:STANDARD
END:VTIMEZONE
BEGIN:VEVENT
DTSTART;TZID=America/New_York:20210513T104500
DTEND;TZID=America/New_York:20210513T120000
DTSTAMP:20220112T093025
CREATED:20210629T210729Z
LAST-MODIFIED:20210629T210729Z
UID:1962660-1620902700-1620907200@www.cs.jhu.edu
SUMMARY:CANCELLED: IAA & CS Seminar Series: TBD – “TBD”
DESCRIPTION:CancelledThis seminar has been cancelled.
URL:https://www.cs.jhu.edu/event/cancelled-iaa-cs-seminar-series-tbd-tbd/
END:VEVENT
END:VCALENDAR