BEGIN:VCALENDAR
VERSION:2.0
PRODID:-//Department of Computer Science - ECPv6.15.20//NONSGML v1.0//EN
CALSCALE:GREGORIAN
METHOD:PUBLISH
X-WR-CALNAME:Department of Computer Science
X-ORIGINAL-URL:https://www.cs.jhu.edu
X-WR-CALDESC:Events for Department of Computer Science
REFRESH-INTERVAL;VALUE=DURATION:PT1H
X-Robots-Tag:noindex
X-PUBLISHED-TTL:PT1H
BEGIN:VTIMEZONE
TZID:America/New_York
BEGIN:DAYLIGHT
TZOFFSETFROM:-0500
TZOFFSETTO:-0400
TZNAME:EDT
DTSTART:20200308T070000
END:DAYLIGHT
BEGIN:STANDARD
TZOFFSETFROM:-0400
TZOFFSETTO:-0500
TZNAME:EST
DTSTART:20201101T060000
END:STANDARD
BEGIN:DAYLIGHT
TZOFFSETFROM:-0500
TZOFFSETTO:-0400
TZNAME:EDT
DTSTART:20210314T070000
END:DAYLIGHT
BEGIN:STANDARD
TZOFFSETFROM:-0400
TZOFFSETTO:-0500
TZNAME:EST
DTSTART:20211107T060000
END:STANDARD
BEGIN:DAYLIGHT
TZOFFSETFROM:-0500
TZOFFSETTO:-0400
TZNAME:EDT
DTSTART:20220313T070000
END:DAYLIGHT
BEGIN:STANDARD
TZOFFSETFROM:-0400
TZOFFSETTO:-0500
TZNAME:EST
DTSTART:20221106T060000
END:STANDARD
END:VTIMEZONE
BEGIN:VEVENT
DTSTART;TZID=America/New_York:20210226T100000
DTEND;TZID=America/New_York:20210226T110000
DTSTAMP:20260422T144852
CREATED:20210629T210727Z
LAST-MODIFIED:20210629T210727Z
UID:1962605-1614333600-1614337200@www.cs.jhu.edu
SUMMARY:Amy Pavel\, Carnegie Mellon University – “Human-AI Systems for Making Videos Useful”
DESCRIPTION:Locationhttps://wse.zoom.us/j/97865960085AbstractVideo is becoming a core medium for communicating a wide range of content\, including educational lectures\, vlogs\, and how-to tutorials. While videos are engaging and informative\, they lack the familiar and useful affordances of text for browsing\, skimming\, and flexibly transforming information. This severely limits who can interact with video content and how they can interact with it\, makes editing a laborious process\, and means that much of the information in videos is not accessible to everyone.But\, what are the future systems will make videos useful for all users?In this talk\, I’ll share my work creating interactive Human-AI systems that leverage multiple mediums of communication (e.g.\, text\, video\, and audio) across two main research areas: 1) helping domain-experts surface content of interest through interactive video abstractions\, and 2) making videos non-visually accessible through interactions for video accessibility. First I will share core challenges of seeking information in videos from interviews with domain experts. Then\, I will share new interactive systems that leverage AI\, and evaluations that demonstrate system efficacy. I will conclude with how hybrid HCI-AI breakthroughs will make digital communication more effective and accessible in the future\, and how new interactions can help us to realize the full potential of recent AI/ML advances.BioAmy Pavel is a Postdoctoral Fellow at CMU HCII and a Research Scientist in AI/ML at Apple. Her research explores how interactive tools\, augmented with machine learning techniques\, can make digital communication more effective and accessible. She has published her work in conferences including UIST\, CHI\, ASSETS\, and other ACM/IEEE venues. She previously received her Ph.D. in CS at UC Berkeley\, where her work was supported by an NDSEG fellowship.HostMichael DinitzVideoWatch seminar video.
URL:https://www.cs.jhu.edu/event/amy-pavel-carnegie-mellon-university-human-ai-systems-for-making-videos-useful/
END:VEVENT
END:VCALENDAR