BEGIN:VCALENDAR
VERSION:2.0
PRODID:-//Department of Computer Science - ECPv6.15.20//NONSGML v1.0//EN
CALSCALE:GREGORIAN
METHOD:PUBLISH
X-WR-CALNAME:Department of Computer Science
X-ORIGINAL-URL:https://www.cs.jhu.edu
X-WR-CALDESC:Events for Department of Computer Science
REFRESH-INTERVAL;VALUE=DURATION:PT1H
X-Robots-Tag:noindex
X-PUBLISHED-TTL:PT1H
BEGIN:VTIMEZONE
TZID:America/New_York
BEGIN:DAYLIGHT
TZOFFSETFROM:-0500
TZOFFSETTO:-0400
TZNAME:EDT
DTSTART:20240310T070000
END:DAYLIGHT
BEGIN:STANDARD
TZOFFSETFROM:-0400
TZOFFSETTO:-0500
TZNAME:EST
DTSTART:20241103T060000
END:STANDARD
BEGIN:DAYLIGHT
TZOFFSETFROM:-0500
TZOFFSETTO:-0400
TZNAME:EDT
DTSTART:20250309T070000
END:DAYLIGHT
BEGIN:STANDARD
TZOFFSETFROM:-0400
TZOFFSETTO:-0500
TZNAME:EST
DTSTART:20251102T060000
END:STANDARD
BEGIN:DAYLIGHT
TZOFFSETFROM:-0500
TZOFFSETTO:-0400
TZNAME:EDT
DTSTART:20260308T070000
END:DAYLIGHT
BEGIN:STANDARD
TZOFFSETFROM:-0400
TZOFFSETTO:-0500
TZNAME:EST
DTSTART:20261101T060000
END:STANDARD
END:VTIMEZONE
BEGIN:VEVENT
DTSTART;TZID=America/New_York:20250519T090000
DTEND;TZID=America/New_York:20250519T120000
DTSTAMP:20260423T134336
CREATED:20250328T161712Z
LAST-MODIFIED:20250328T162312Z
UID:1987160-1747645200-1747656000@www.cs.jhu.edu
SUMMARY:2025 Master’s Recognition Ceremony
DESCRIPTION:The 2025 Master’s Recognition Ceremony will take place on Monday\, May 19 at 9 a.m. on Homewood Field\, with a reception to follow on Keyser Quad. \nThe rain date will be held on Tuesday\, May 20 at 12:30 p.m.\, likewise on Homewood Field. \nLearn more here.
URL:https://www.cs.jhu.edu/event/2025-masters-recognition-ceremony/
LOCATION:Homewood Field\, 3400 N. Charles St.\, Baltimore\, MD\, 21218\, United States
CATEGORIES:Graduate Events
END:VEVENT
END:VCALENDAR